Workbook

Sheet RR BR 2025
A1: Ösbybadets vänner 2025 | D1: Ösbybadets vänner 2024
A3: Balansräkning | D3: Balansräkning
A4: TILLGÅNGAR | D4: TILLGÅNGAR
A5: Bankkonto | B5: 37596 | D5: Bankkonto | E5: 38308.4
A7: SKULDER O EGET KAPITAL | D7: SKULDER O EGET KAPITAL
A8: Skulder | B8: 0 | D8: Skulder | E8: 0
A9: Eget kapital | B9: =B5 -> 37596 | D9: Eget kapital | E9: =E5 -> 38308.4
A16: Resultaträkning | D16: Resultaträkning
A17: INTÄKTER | D17: INTÄKTER
A18: Medlemsavgifter | B18: 5750 | D18: Medlemsavgifter | E18: 6075
D19: Gåvor | E19: 8540
A20: KOSTNADER
A21: Bankavgifter | B21: 2104 | D21: KOSTNADER
A22: Omkostnader | B22: 4358 | D22: Bankavgifter | E22: 2082
D23: Omkostnader | E23: 4994
A24: ÅRETS RESULTAT | B24: =B18-B21-B22 -> -712
D25: ÅRETS RESULTAT | E25: =E18+E19-E22-E23 -> 7539

Sheet Kto balans 2025-12-31
A1: ÖBV 2025
A4: IB 2025-01-01 | B4: 38308.4
A5: Medl avgifter | B5: =14*100+29*150 -> 5750
A6: Bank avg | B6: -2104
A7: Omkostnader | B7: ='PLUSGIROKONTO 2025'!B51 -> -4358
A8: UB 2025-12-31 | B8: =SUM(B4:B7) -> 37596.4
A12: Antal medl avg à 100 kr | B12: 14 | C12: =B12 -> 14 | D12: st
A13: Antal medl avg à 150 kr (2,5p) | B13: 29 | C13: =B13*2.5 -> 72.5 | D13: st
C14: =SUM(C12:C13) -> 86.5 | D14: st
A16: Kontoutdrag 2025-12-31

Sheet PLUSGIROKONTO 2025
A1: Bokföringsdag | B1: Belopp | C1: Namn | D1: Rubrik
A2: 45658 | B2: -8 | C2: Swish pris trans. | D2: 1230313866
A3: 45658 | B3: -720 | C3: Swish årspris | D3: 524808 | H3: Antal 100:- | I3: =COUNTIF(B:B,100) -> 14
A4: 45662 | B4: 100 | C4: Inbetalning Swish Företag | D4: STRIDSBERG, CECILIA | H4: Antal 150:- | I4: =COUNTIF(B:B,150) -> 29
A5: 45664 | B5: -1300 | C5: AVGIFTER NORDEA
A6: 45676 | B6: 150 | C6: Inbetalning Swish Företag | D6: Fredrik Söderman
A7: 45689 | B7: -4 | C7: Swish pris trans. | D7: 1230313866
A8: 45777 | B8: 150 | C8: Inbetalning Swish Företag | D8: ENSTAM, DAPHNE
A9: 45778 | B9: -2 | C9: Swish pris trans. | D9: 1230313866
A10: 45783 | B10: 150 | C10: Inbetalning Swish Företag | D10: Anders Christer Malm
A11: 45809 | B11: 150 | C11: Inbetalning Swish Företag | D11: Magnus Gustafsson
A12: 45809 | B12: -2 | C12: Swish pris trans. | D12: 1230313866
A13: 45814 | B13: 150 | C13: Inbetalning Swish Företag | D13: AXLING, BRITT-MARIE
A14: 45814 | B14: 100 | C14: Inbetalning Swish Företag | D14: MÅRTENSSON CECILIA
A15: 45814 | B15: 150 | C15: Inbetalning Swish Företag | D15: Jörgen Ellgren
A16: 45814 | B16: 150 | C16: Inbetalning Swish Företag | D16: HOLMSTEDT ENGLUND, K
A17: 45814 | B17: 100 | C17: Inbetalning Swish Företag | D17: Karin Nordvaller
A18: 45814 | B18: 100 | C18: Inbetalning Swish Företag | D18: LARS HOLMQVIST
A19: 45814 | B19: 150 | C19: Inbetalning Swish Företag | D19: WEHLÈN,BJÖRN
A20: 45814 | B20: 150 | C20: Inbetalning Swish Företag | D20: Anne Bontin Lundgren
A21: 45814 | B21: 100 | C21: Inbetalning Swish Företag | D21: Joachim Gahm
A22: 45814 | B22: 150 | C22: Inbetalning Swish Företag | D22: FRIIS GUNILLA
A23: 45814 | B23: 150 | C23: Inbetalning Swish Företag | D23: Jan Christer Egnefor
A24: 45814 | B24: 150 | C24: Inbetalning Swish Företag | D24: EVERUM, OSSIE
... A37: 45817 | B37: 150 | C37: Inbetalning Swish Företag | D37: ERIK EDMAN
A38: 45817 | B38: 150 | C38: Inbetalning Swish Företag | D38: ULFF, CHRISTER | E38: Christer, Suzanne, Emelie, Carolina, Fredrika
A39: 45817 | B39: 100 | C39: Inbetalning Swish Företag | D39: SÖDERBERGH, RICHARD
A40: 45818 | B40: 100 | C40: Inbetalning Swish Företag | D40: JUFORS, MADELEINE
A41: 45818 | B41: 150 | C41: Bankgiroinsättning 5357-5205 | D41: ERIC OCH INGRID GIERTZ, ERICGIERTZ@GMAIL.COM, INGRIDGIERTZ@GMAIL.COM
A42: 45819 | B42: 150 | C42: Bankgiroinsättning 5357-5205 | D42: Lovering - johnlovering54@gmail.com
A43: 45820 | B43: 150 | C43: Inbetalning Swish Företag | D43: Anna Sahlin Engsner
A44: 45822 | B44: 100 | C44: Inbetalning Swish Företag | D44: DAVID IGRA
A45: 45827 | B45: 150 | C45: Inbetalning Swish Företag | D45: SCHERWIN,SANNA LINN
A46: 45836 | B46: 150 | C46: Inbetalning Swish Företag | D46: SOLVEIG BRUNNER | E46: Solveig Brunner, Catherine o Noah. | F46: solveigbrunner@outlook.com
A47: 45839 | B47: -66 | C47: Swish pris trans.
A48: 45841 | B48: 150 | C48: Inbetalning Swish Företag | D48: Peter Knafve
A49: 45870 | B49: -2 | C49: Swish pris trans.
A50: 45971 | B50: 100 | C50: Bankgiroinsättning 5357-5205 | D50: JOHAN OTTERBECK, JOHAN.OTTERBECK.JO@GMAIL.COM
A51: 45999 | B51: -4358 | C51: Lars Avellan SEB 2 | D51: ÖBV UTGIFTER | E51: Utlägg Lars A 2025
A52: 46016 | B52: 150 | C52: Inbetalning Swish Företag | D52: Christian Ljungdahl
A53: 46020 | B53: 150 | C53: Bankgiroinsättning 5357-5205 | D53: Familien Tregaard, erik.tregaard@ic loud.com): Erik, Linda, Juliette, J ulian

Sheet RR BR 2024
A1: Ösbybadets vänner 2024
A3: Balansräkning
A4: TILLGÅNGAR
A5: Bankkonto | B5: 38308.4
A7: SKULDER O EGET KAPITAL
A8: Skulder | B8: 0
A9: Eget kapital | B9: =B5 -> 38308.4
A16: Resultaträkning
A17: INTÄKTER
A18: Medlemsavgifter | B18: 6075
A19: Gåvor | B19: 8540
A21: KOSTNADER
A22: Bankavgifter | B22: 2082
A23: Omkostnader | B23: 4994
A25: ÅRETS RESULTAT | B25: =B18+B19-B22-B23 -> 7539

Sheet Kto balans 2024-12-31 
A3: ÖBV 2024 | H3: Summering av kontohändelserna, underlag till RR här till höger
H4: Row Labels | I4: Sum of Belopp
H5: PRIS ENL SPEC | I5: -1300 | J5: -1300
A6: IB 2024-01-01 | B6: 30769.4 | H6: SWISH AVGIFT | I6: -782 | J6: -782
A7: Medl avgifter | B7: =J9+J7+50 -> 6075 | H7: Medlemsavgift Swish | I7: 5135 | J7: 5135
A8: Gåvor Ekebyskolan | B8: 8540 | H8: Lars utgifter 2024 | I8: -4994 | J8: -4994
A9: Bank avg | B9: =J5+J6 -> -2082 | H9: Medlemsavgift BG | I9: 840 | J9: 890
A10: Omkostnader | B10: =J8 -> -4994 | H10: Gåva Swish | I10: 8540 | J10: 8540
A11: UB 2024-12-31 | B11: =SUM(B6:B10) -> 38308.4 | H11: Grand Total | I11: 7439
A15: Antal medl avg à 100 kr | B15: =COUNTIF('PLUSGIROKONTO 2024'!B:B,100) -> 31 | C15: =B15 -> 31 | D15: st
A16: Antal medl avg à 150 kr (2,5p) | B16: =COUNTIF('PLUSGIROKONTO 2024'!B:B,150) -> 30 | C16: =B16*2.5 -> 75 | D16: st
C17: =SUM(C15:C16) -> 106 | D17: st
A19: Kontoutdrag 2024-12-31

Sheet PLUSGIROKONTO 2024
A1: Bokföringsdag | B1: Belopp | C1: Namn | D1: Rubrik | E1: Meddelande | F1: Egna anteckningar | G1: Epost angiven på inbetalning | H1: Medlemsräkning
A2: 45656 | B2: 150 | C2: SWISH INBETAL | D2: Medlemsavgift Swish | E2: Mimmi Wetterholm | H2: 2
A3: 45653 | B3: 100 | C3: SWISH INBETAL | D3: Medlemsavgift Swish | E3: MIROSLAV KOBETSKI | H3: 1
A4: 45646 | B4: -4994 | D4: Lars utgifter 2024 | E4: Lars utgifter 2024
A5: 45635 | B5: 150 | C5: SWISH INBETAL | D5: Medlemsavgift Swish | E5: SOLVEIG BRUNNER | H5: 2
A6: 45632 | B6: 150 | C6: SWISH INBETAL | D6: Medlemsavgift Swish | E6: LYDIA HYLTÉN-CAVALLI | H6: 2
A7: 45628 | B7: -4 | D7: SWISH AVGIFT | E7: 1230313866
A8: 45607 | B8: 100 | C8: SWISH INBETAL | D8: Medlemsavgift Swish | E8: Fredrik Sjöström | H8: 1
A9: 45607 | B9: 100 | C9: SWISH INBETAL | D9: Medlemsavgift Swish | E9: EKSTRÖM,CONSTANZE | H9: 1
A10: 45566 | B10: -4 | D10: SWISH AVGIFT | E10: 1230313866
A11: 45562 | B11: 150 | C11: SWISH INBETAL | D11: Medlemsavgift Swish | E11: Martin Ritzén | H11: 2
A12: 45538 | B12: 100 | C12: SWISH INBETAL | D12: Medlemsavgift Swish | E12: WALDENSTRÖM, CHRISTI | H12: 1
A13: 45537 | B13: -52 | D13: SWISH AVGIFT | E13: 1230313866
A14: 45532 | B14: 100 | C14: SWISH INBETAL | D14: Medlemsavgift Swish | E14: BANÉR, ANNE | H14: 1
A15: 45530 | B15: 100 | C15: SWISH INBETAL | D15: Medlemsavgift Swish | E15: Eva Jacobsson | H15: 1
A16: 45527 | B16: 150 | D16: Medlemsavgift BG | E16: OTTERBECK, EVA & JOHAN | H16: 2
A17: 45527 | B17: 150 | C17: SWISH INBETAL | D17: Medlemsavgift Swish | E17: BJÖRNSSON, BJÖRN | H17: 2
A18: 45526 | B18: 100 | C18: SWISH INBETAL | D18: Medlemsavgift Swish | E18: MÅRTENSSON CECILIA | H18: 1
A19: 45526 | B19: 100 | C19: SWISH INBETAL | D19: Medlemsavgift Swish | E19: ARVAS, CHRISTER | H19: 1
A20: 45525 | B20: 150 | C20: SWISH INBETAL | D20: Medlemsavgift Swish | E20: Anna Sahlin Engsner | H20: 2
A21: 45525 | B21: 150 | C21: SWISH INBETAL | D21: Medlemsavgift Swish | E21: BJÖRNSTJERNA, MARTIN | H21: 2
A22: 45525 | B22: 150 | C22: SWISH INBETAL | D22: Medlemsavgift Swish | E22: Ulla Elisabeth Lundi | H22: 2
A23: 45525 | B23: 150 | D23: Medlemsavgift BG | E23: GIERTZ ERIC & INGRID | F23: ERICGIERTZ@GMAIL.COM | H23: 2
A24: 45525 | B24: 150 | D24: Medlemsavgift BG | E24: CHRISTER, SUZANNE, EMELIE, CAROLINA, FREDRIKA ULFF | H24: 5
A25: 45524 | B25: 100 | C25: SWISH INBETAL | D25: Medlemsavgift Swish | E25: WAERN, OLOF | H25: 1
A26: 45524 | B26: 100 | C26: SWISH INBETAL | D26: Medlemsavgift Swish | E26: Christian Lépée | H26: 1
A27: 45524 | B27: 100 | C27: SWISH INBETAL | D27: Medlemsavgift Swish | E27: Kerstin Hansdotter K | H27: 1
A28: 45524 | B28: 100 | C28: SWISH INBETAL | D28: Medlemsavgift Swish | E28: JUFORS, MADELEINE | H28: 1
A29: 45524 | B29: 100 | C29: SWISH INBETAL | D29: Medlemsavgift Swish | E29: Jonas Falck | H29: 1
A30: 45524 | B30: 100 | C30: SWISH INBETAL | D30: Medlemsavgift Swish | E30: Eva Busch | H30: 1
A31: 45524 | B31: 100 | C31: SWISH INBETAL | D31: Medlemsavgift Swish | E31: Carl Erik Eriksson | H31: 1
A32: 45524 | B32: 150 | C32: SWISH INBETAL | D32: Medlemsavgift Swish | E32: ERIK EDMAN | H32: 4
A33: 45524 | B33: 150 | C33: SWISH INBETAL | D33: Medlemsavgift Swish | E33: Jan Christer Egnefor | H33: 2
A34: 45524 | B34: 150 | C34: SWISH INBETAL | D34: Medlemsavgift Swish | E34: Peter Knafve | H34: 2
A35: 45524 | B35: 150 | D35: Medlemsavgift BG | E35: EVERUM OSSIE | F35: OSSIE.EVERUM@GMAIL.COM | H35: 4
A36: 45524 | B36: 100 | D36: Medlemsavgift BG | E36: FRIIS GUNILLA | H36: 1
A37: 45524 | B37: 100 | D37: Medlemsavgift BG | E37: LOVERING JOHN | F37: JOHNLOVERING54@GMAIL.COM
A38: 45523 | B38: 100 | C38: SWISH INBETAL | D38: Medlemsavgift Swish | E38: LARS HOLMQVIST | H38: 1
A39: 45523 | B39: 150 | C39: SWISH INBETAL | D39: Medlemsavgift Swish | E39: CECILIA WEHLÉN | H39: 2
A40: 45523 | B40: 150 | C40: SWISH INBETAL | D40: Medlemsavgift Swish | E40: HANNA LILLIESKÖLD RI | H40: 2
A41: 45523 | B41: 150 | C41: SWISH INBETAL | D41: Medlemsavgift Swish | E41: AVELLAN-HULTMAN, LAR | H41: 2
A42: 45523 | B42: 150 | C42: SWISH INBETAL | D42: Medlemsavgift Swish | E42: AXLING, BRITT-MARIE | H42: 2
A43: 45523 | B43: 150 | C43: SWISH INBETAL | D43: Medlemsavgift Swish | E43: WEHLÈN,BJÖRN | H43: 2
A44: 45523 | B44: 150 | C44: SWISH INBETAL | D44: Medlemsavgift Swish | E44: REZA FARHANG | H44: 2
A45: 45523 | B45: 150 | C45: SWISH INBETAL | D45: Medlemsavgift Swish | E45: JOHANSSON, HERMAN | H45: 2
A46: 45474 | B46: -2 | D46: Medlemsavgift BG | E46: 1230313866
A47: 45446 | B47: -258 | D47: Medlemsavgift BG | E47: 1230313866
A48: 45446 | B48: 100 | C48: SWISH INBETAL | D48: Medlemsavgift Swish | E48: DAVID IGRA | H48: 1
A49: 45440 | B49: 45 | C49: SWISH INBETAL | D49: Medlemsavgift Swish | E49: Margitta Wendin
A50: 45440 | B50: 150 | C50: SWISH INBETAL | D50: Medlemsavgift Swish | E50: Anne Bontin Lundgren | H50: 2
A51: 45439 | B51: 90 | C51: SWISH INBETAL | D51: Medlemsavgift Swish | E51: VERONICA HANZON | H51: 1
A52: 45436 | B52: 20 | C52: SWISH INBETAL | D52: Gåva Swish | E52: FURAHA,CHANTAL
A53: 45436 | B53: 20 | C53: SWISH INBETAL | D53: Gåva Swish | E53: Joseph Patrick Berga
A54: 45436 | B54: 20 | C54: SWISH INBETAL | D54: Gåva Swish | E54: Filippa Exelin
A55: 45436 | B55: 25 | C55: SWISH INBETAL | D55: Gåva Swish | E55: BYSTRÖM, MIKAEL
A56: 45436 | B56: 25 | C56: SWISH INBETAL | D56: Gåva Swish | E56: SCHERWIN,ERNA
A57: 45436 | B57: 25 | C57: SWISH INBETAL | D57: Gåva Swish | E57: EMIL DAHLGREN
A58: 45436 | B58: 25 | C58: SWISH INBETAL | D58: Gåva Swish | E58: Josefin Lönnborg
A59: 45436 | B59: 25 | C59: SWISH INBETAL | D59: Gåva Swish | E59: Josefin Lönnborg
A60: 45436 | B60: 25 | C60: SWISH INBETAL | D60: Gåva Swish | E60: BROMAN ERICSSON,SANN
A61: 45436 | B61: 25 | C61: SWISH INBETAL | D61: Gåva Swish | E61: BROMAN ERICSSON,SANN
A62: 45436 | B62: 30 | C62: SWISH INBETAL | D62: Gåva Swish | E62: TACHIMOTO, CHARLOTTE
A63: 45436 | B63: 30 | C63: SWISH INBETAL | D63: Gåva Swish | E63: Jannika Dahlfort
... A175: 45436 | B175: 400 | C175: SWISH INBETAL | D175: Gåva Swish | E175: JONAS SYNNERGREN
A176: 45435 | B176: 150 | C176: 85 61 81-3 | D176: Medlemsavgift BG | E176: MURRAY CHRISTOFER | F176: bim.murray@gmail.com, christofer.murray@gmail.com | H176: 2
A177: 45433 | B177: 150 | C177: SWISH INBETAL | D177: Medlemsavgift Swish | E177: WALLENSTEN, RICHARD o ULLA-LENA | F177: Richard.wallensten@regionstockholm.se | H177: 2
A178: 45429 | B178: 150 | C178: SWISH INBETAL | D178: Medlemsavgift Swish | E178: ULFF, CHRISTER | H178: 3
A179: 45414 | B179: -2 | D179: SWISH AVGIFT | E179: 1230313866
A180: 45406 | B180: 150 | C180: SWISH INBETAL | D180: Medlemsavgift Swish | E180: RIDDARSTJÄRNA, JOHN- | H180: 2
A181: 45324 | B181: 150 | D181: Medlemsavgift BG | E181: MARIE, PIA, LINN BERGGREN | F181: MARIE.BELE@HOTMAIL.COM | H181: 3
A182: 45295 | B182: -1300 | C182: PRIS ENL SPEC | D182: PRIS ENL SPEC | E182: PRIS ENL SPEC
A183: 45293 | B183: -720 | C183: SWISH AVGIFT | D183: SWISH AVGIFT | E183: SWISH AVGIFT

Sheet RR BR 2023
A1: Ösbybadets vänner 2023
A3: Balansräkning
A4: TILLGÅNGAR
A5: Bankkonto | B5: 30769.4
A7: SKULDER O EGET KAPITAL
A8: Skulder | B8: 0
A9: Eget kapital | B9: 30769.4
A16: Resultaträkning
A17: INTÄKTER
A18: Medlemsavgifter | B18: 7450
A20: KOSTNADER
A21: Bank avgifter | B21: 1996
A22: Omkostnader | B22: 3419
A24: ÅRETS RESULTAT | B24: =B18-B21-B22 -> 2035

Sheet Kto balans 2023-12-31
A3: ÖBV 2023 | I3: Summering av kontohändelserna, underlag till RR här till höger
I4: Row Labels | J4: Sum of Belopp
I5: BG INSÄTTNING 1 | J5: 1100 | K5: 1100
A6: IB 2023-01-01 | B6: 28734.4 | I6: Inbetalning Swish Företag | J6: 6350 | K6: 6350
A7: Medl avgifter | B7: =K5+K6 -> 7450 | I7: ÖBV UTLÄGG23 | J7: -3419 | K7: -3419
A8: Bank avg | B8: =K9+K8 -> -1996 | I8: PRIS ENL SPEC | J8: -1300 | K8: -1300
A9: Omkostnader | B9: =K7 -> -3419 | I9: SWISH AVGIFT | J9: -696 | K9: -696
A10: UB 2032-12-31 | B10: =SUM(B6:B9) -> 30769.4 | I10: Grand Total | J10: 2035 | K10: 0
A14: Antal medl avg à 100 kr | B14: =COUNTIF('PLUSGIROKONTO 2023'!B:B,100) -> 22 | C14: =B14 -> 22 | D14: st
A15: Antal medl avg à 150 kr (2,5p) | B15: =COUNTIF('PLUSGIROKONTO 2023'!B:B,150) -> 35 | C15: =B15*2.5 -> 87.5 | D15: st
C16: =SUM(C14:C15) -> 109.5 | D16: st
A24: Kontoutdrag 2023-12-31

Sheet PLUSGIROKONTO 2023
A1: Bokföringsdag | B1: Belopp | C1: Namn | D1: Rubrik | E1: Meddelande | F1: Egna anteckningar | G1: Epost angiven på inbetalning | H1: Medlemsräkning
A2: 45275 | B2: -3419 | C2: Lars SEB utlägg | D2: ÖBV UTLÄGG23 | E2: ÖBV UTLÄGG23
A3: 45201 | B3: -4 | C3: SWISH AVGIFT | D3: SWISH AVGIFT | E3: SWISH AVGIFT
A4: 45194 | B4: 100 | C4: SWISH INBETAL | D4: Inbetalning Swish Företag | E4: Anna Grindberg | H4: 1
A5: 45194 | B5: 150 | C5: SWISH INBETAL | D5: Inbetalning Swish Företag | E5: Åsa Dahlenborg | H5: 2
A6: 45170 | B6: -2 | C6: SWISH AVGIFT | D6: SWISH AVGIFT | E6: SWISH AVGIFT
A7: 45149 | B7: 150 | C7: SWISH INBETAL | D7: Inbetalning Swish Företag | E7: Emma Christine Lilli | H7: 2
A8: 45139 | B8: -2 | C8: SWISH AVGIFT | D8: SWISH AVGIFT | E8: SWISH AVGIFT
A9: 45121 | B9: 150 | C9: SWISH INBETAL | D9: Inbetalning Swish Företag | E9: HOAS, CHRISTIAN | H9: 2
A10: 45110 | B10: -78 | C10: SWISH AVGIFT | D10: SWISH AVGIFT | E10: SWISH AVGIFT
A11: 45107 | B11: 150 | C11: BG INSÄTTNING 1 | D11: BG INSÄTTNING 1 | E11: Patricia och Björn Wehlen | G11: rehttb@gmail.com | H11: 2
A12: 45106 | B12: 100 | C12: BG INSÄTTNING 1 | D12: BG INSÄTTNING 1 | E12: KerstinHansdotter Küntzel | F12: Vendevägen 5 C lgh 1101, 182 69 Djursholm | H12: 1
A13: 45103 | B13: 100 | C13: BG INSÄTTNING 1 | D13: BG INSÄTTNING 1 | E13: Gunilla Wiking-Johnsson | F13: Ellahagsvägen 1 A, 187 32 Täby | H13: 1
A14: 45099 | B14: 100 | C14: SWISH INBETAL | D14: Inbetalning Swish Företag | E14: PONTELL HAGKLINT, MO | H14: 1
A15: 45098 | B15: 150 | C15: SWISH INBETAL | D15: Inbetalning Swish Företag | E15: SOLVEIG BRUNNER | H15: =VLOOKUP(E15,'PLUSGIROKONTO 2022'!E:H,4,FALSE) -> 2
A16: 45097 | B16: 150 | C16: SWISH INBETAL | D16: Inbetalning Swish Företag | E16: KARSTEN HUSBERG | H16: =VLOOKUP(E16,'PLUSGIROKONTO 2022'!E:H,4,FALSE) -> 2
A17: 45096 | B17: 100 | C17: BG INSÄTTNING 1 | D17: BG INSÄTTNING 1 | E17: SÖDERBERGH RICHARD | F17: , MÖRBYLUND 25 LGH 1605, 182 30 DANDERYD | G17: ricki07@hotmail.com | H17: 1
A18: 45096 | B18: 150 | C18: SWISH INBETAL | D18: Inbetalning Swish Företag | E18: OTTERBECK, JOHAN | H18: 2
A19: 45086 | B19: 100 | C19: SWISH INBETAL | D19: Inbetalning Swish Företag | E19: Louise Epstein | H19: =VLOOKUP(E19,'PLUSGIROKONTO 2022'!E:H,4,FALSE) -> 2
A20: 45085 | B20: 100 | C20: SWISH INBETAL | D20: Inbetalning Swish Företag | E20: Eva Jacobsson | H20: =VLOOKUP(E20,'PLUSGIROKONTO 2022'!E:H,4,FALSE) -> 1
A21: 45085 | B21: 100 | C21: SWISH INBETAL | D21: Inbetalning Swish Företag | E21: HOLST ÅBERG, JOANNA | H21: =VLOOKUP(E21,'PLUSGIROKONTO 2022'!E:H,4,FALSE) -> 1
A22: 45084 | B22: 150 | C22: SWISH INBETAL | D22: Inbetalning Swish Företag | E22: FRIIS GUNILLA | H22: =VLOOKUP(E22,'PLUSGIROKONTO 2022'!E:H,4,FALSE) -> 1
A23: 45084 | B23: 150 | C23: SWISH INBETAL | D23: Inbetalning Swish Företag | E23: FRIIS GUNILLA | H23: =VLOOKUP(E23,'PLUSGIROKONTO 2022'!E:H,4,FALSE) -> 1
A24: 45084 | B24: 150 | C24: BG INSÄTTNING 1 | D24: BG INSÄTTNING 1 | E24: Familjen Ulff | F24: BECKHOLMSVÄGEN 5, 115 21 STOCKHOLM | H24: 3
A25: 45084 | B25: 150 | C25: BG INSÄTTNING 1 | D25: BG INSÄTTNING 1 | E25: Kristina och Christer Arvas | F25: VENDEVÄGEN 8 LGH 1102, 182 69 DJURSHOLM | G25: CHRISTER.ARVAS@GMAIL.COM | H25: 2
A26: 45084 | B26: 150 | C26: BG INSÄTTNING 1 | D26: BG INSÄTTNING 1 | E26: Anne Bontin Lundgren och Göran Lundgren | F26: Fafnerstigen 3, 182 66 Djursholm | H26: 2
A27: 45082 | B27: 100 | C27: SWISH INBETAL | D27: Inbetalning Swish Företag | E27: WALDENSTRÖM, CHRISTI | H27: =VLOOKUP(E27,'PLUSGIROKONTO 2022'!E:H,4,FALSE) -> 1
A28: 45082 | B28: 100 | C28: SWISH INBETAL | D28: Inbetalning Swish Företag | E28: Marie Alrutz | H28: =VLOOKUP(E28,'PLUSGIROKONTO 2022'!E:H,4,FALSE) -> 1
A29: 45082 | B29: 100 | C29: SWISH INBETAL | D29: Inbetalning Swish Företag | E29: Per Mikael Eriksson | H29: 1
A30: 45082 | B30: 100 | C30: SWISH INBETAL | D30: Inbetalning Swish Företag | E30: TINGSTRÖM, RAGNAR | H30: =VLOOKUP(E30,'PLUSGIROKONTO 2022'!E:H,4,FALSE) -> 1
A31: 45082 | B31: 100 | C31: SWISH INBETAL | D31: Inbetalning Swish Företag | E31: ANKARCRONA, MI | H31: =VLOOKUP(E31,'PLUSGIROKONTO 2022'!E:H,4,FALSE) -> 1
A32: 45082 | B32: 100 | C32: SWISH INBETAL | D32: Inbetalning Swish Företag | E32: Peter Knafve | H32: =VLOOKUP(E32,'PLUSGIROKONTO 2022'!E:H,4,FALSE) -> 1
A33: 45082 | B33: 100 | C33: SWISH INBETAL | D33: Inbetalning Swish Företag | E33: LENZ, JÖRGEN | H33: =VLOOKUP(E33,'PLUSGIROKONTO 2022'!E:H,4,FALSE) -> 2
A34: 45082 | B34: 100 | C34: SWISH INBETAL | D34: Inbetalning Swish Företag | E34: Jonas Falck | H34: =VLOOKUP(E34,'PLUSGIROKONTO 2022'!E:H,4,FALSE) -> 1
A35: 45082 | B35: 100 | C35: SWISH INBETAL | D35: Inbetalning Swish Företag | E35: Birgitta de Verdier | H35: =VLOOKUP(E35,'PLUSGIROKONTO 2022'!E:H,4,FALSE) -> 1
A36: 45082 | B36: 100 | C36: SWISH INBETAL | D36: Inbetalning Swish Företag | E36: Carl Erik Eriksson | H36: =VLOOKUP(E36,'PLUSGIROKONTO 2022'!E:H,4,FALSE) -> 2
A37: 45082 | B37: 100 | C37: SWISH INBETAL | D37: Inbetalning Swish Företag | E37: Annika Friberg | H37: =VLOOKUP(E37,'PLUSGIROKONTO 2022'!E:H,4,FALSE) -> 1
A38: 45082 | B38: 150 | C38: SWISH INBETAL | D38: Inbetalning Swish Företag | E38: Annette Alaeus | H38: 2
A39: 45082 | B39: 150 | C39: SWISH INBETAL | D39: Inbetalning Swish Företag | E39: AXLING, BRITT-MARIE | H39: =VLOOKUP(E39,'PLUSGIROKONTO 2022'!E:H,4,FALSE) -> 2
A40: 45082 | B40: 150 | C40: SWISH INBETAL | D40: Inbetalning Swish Företag | E40: BJÖRNSTJERNA, MARTIN | H40: 2
A41: 45082 | B41: 150 | C41: SWISH INBETAL | D41: Inbetalning Swish Företag | E41: Clarence Reuterswärd | H41: =VLOOKUP(E41,'PLUSGIROKONTO 2022'!E:H,4,FALSE) -> 2
A42: 45082 | B42: 150 | C42: SWISH INBETAL | D42: Inbetalning Swish Företag | E42: Anna Sahlin Engsner | H42: =VLOOKUP(E42,'PLUSGIROKONTO 2022'!E:H,4,FALSE) -> 3
A43: 45082 | B43: 150 | C43: SWISH INBETAL | D43: Inbetalning Swish Företag | E43: ERIK EDMAN | H43: =VLOOKUP(E43,'PLUSGIROKONTO 2022'!E:H,4,FALSE) -> 2
A44: 45082 | B44: 150 | C44: SWISH INBETAL | D44: Inbetalning Swish Företag | E44: Jan Christer Egnefor | H44: 2
A45: 45082 | B45: 150 | C45: SWISH INBETAL | D45: Inbetalning Swish Företag | E45: John Lovering | H45: 2
A46: 45082 | B46: 150 | C46: SWISH INBETAL | D46: Inbetalning Swish Företag | E46: TORBERGER, JAN | H46: =VLOOKUP(E46,'PLUSGIROKONTO 2022'!E:H,4,FALSE) -> 2
A47: 45082 | B47: 150 | C47: SWISH INBETAL | D47: Inbetalning Swish Företag | E47: Madeleine Pagelz | H47: =VLOOKUP(E47,'PLUSGIROKONTO 2022'!E:H,4,FALSE) -> 2
A48: 45082 | B48: 150 | C48: SWISH INBETAL | D48: Inbetalning Swish Företag | E48: CRAELIUS,CARIN | H48: =VLOOKUP(E48,'PLUSGIROKONTO 2022'!E:H,4,FALSE) -> 2
A49: 45082 | B49: 150 | C49: SWISH INBETAL | D49: Inbetalning Swish Företag | E49: Henrik Berggren | H49: 2
A50: 45082 | B50: 150 | C50: SWISH INBETAL | D50: Inbetalning Swish Företag | E50: CECILIA WEHLÉN | H50: =VLOOKUP(E50,'PLUSGIROKONTO 2022'!E:H,4,FALSE) -> 2
A51: 45082 | B51: 150 | C51: SWISH INBETAL | D51: Inbetalning Swish Företag | E51: BJÖRNSSON, BJÖRN | H51: =VLOOKUP(E51,'PLUSGIROKONTO 2022'!E:H,4,FALSE) -> 4
A52: 45082 | B52: 150 | C52: SWISH INBETAL | D52: Inbetalning Swish Företag | E52: AVELLAN-HULTMAN, LAR | H52: =VLOOKUP(E52,'PLUSGIROKONTO 2022'!E:H,4,FALSE) -> 2
A53: 45082 | B53: 150 | C53: SWISH INBETAL | D53: Inbetalning Swish Företag | E53: Ulla Elisabeth Lundi | H53: =VLOOKUP(E53,'PLUSGIROKONTO 2022'!E:H,4,FALSE) -> 2
A54: 45082 | B54: 150 | C54: SWISH INBETAL | D54: Inbetalning Swish Företag | E54: Jörgen Ellgren | H54: 2
A55: 45082 | B55: 150 | C55: SWISH INBETAL | D55: Inbetalning Swish Företag | E55: Mikael Adriansson | H55: =VLOOKUP(E55,'PLUSGIROKONTO 2022'!E:H,4,FALSE) -> 3
A56: 45082 | B56: 150 | C56: SWISH INBETAL | D56: Inbetalning Swish Företag | E56: EVERUM, OSSIE | H56: =VLOOKUP(E56,'PLUSGIROKONTO 2022'!E:H,4,FALSE) -> 3
A57: 45078 | B57: -4 | C57: SWISH AVGIFT | D57: SWISH AVGIFT | E57: SWISH AVGIFT
A58: 45068 | B58: 100 | C58: BG INSÄTTNING 1 | D58: BG INSÄTTNING 1 | E58: Katarina Hohwu-Christensen | F58: EKEBYDALSVÄGEN 4, 182 65 DJURSHOLM | H58: 1
A59: 45061 | B59: 150 | C59: SWISH INBETAL | D59: Inbetalning Swish Företag | E59: SOLVEIG BRUNNER | H59: =VLOOKUP(E59,'PLUSGIROKONTO 2022'!E:H,4,FALSE) -> 2
A60: 45054 | B60: 100 | C60: SWISH INBETAL | D60: Inbetalning Swish Företag | E60: HELLBERG,ELISABETH | H60: 1
A61: 45048 | B61: -2 | C61: SWISH AVGIFT | D61: SWISH AVGIFT | E61: SWISH AVGIFT
A62: 45027 | B62: 150 | C62: SWISH INBETAL | D62: Inbetalning Swish Företag | E62: Ulla Elisabeth Lundi | H62: =VLOOKUP(E62,'PLUSGIROKONTO 2022'!E:H,4,FALSE) -> 2
A63: 44972 | B63: 100 | C63: BG INSÄTTNING 1 | D63: BG INSÄTTNING 1 | E63: ANGERT LILLIESTRÅLE MÄRTH | F63: M A Lilliestråle | G63: mal&caloma.se | H63: 1
A64: 44958 | B64: -4 | C64: SWISH AVGIFT | D64: SWISH AVGIFT | E64: SWISH AVGIFT
A65: 44949 | B65: 150 | C65: SWISH INBETAL | D65: Inbetalning Swish Företag | E65: LEVAY, LUKAS | H65: 2
A66: 44944 | B66: 150 | C66: SWISH INBETAL | D66: Inbetalning Swish Företag | E66: LUNDQVIST, BIRGITTA | H66: 2
A67: 44930 | B67: -1300 | C67: PRIS ENL SPEC | D67: PRIS ENL SPEC | E67: PRIS ENL SPEC
A68: 44928 | B68: -600 | C68: SWISH AVGIFT | D68: SWISH AVGIFT | E68: SWISH AVGIFT

Sheet PLUSGIROKONTO 2022
A1: Bokföringsdag | B1: Belopp | C1: Namn | D1: Rubrik | E1: Meddelande | F1: Egna anteckningar | G1: Epost angiven på inbetalning | H1: Medlemsräkning
A2: 44915 | B2: -593 | C2: Skandinaviska Enskilda Ba | D2: Lars SEB utlägg | E2: ÖBV UTLÄGG | F2: Lars utlägg 20221219
A3: 44910 | B3: -7434.4 | C3: Skandinaviska Enskilda Ba | D3: Lars SEB utlägg | E3: UTLÄGG ÖBV22 | F3: Lars utlägg 20221207
A4: 44896 | B4: -4 | C4: SWISH AVGIFT | D4: SWISH AVGIFT | E4: 1230313866
A5: 44893 | B5: 150 | C5: SWISH INBETAL | D5: SWISH INBETAL | E5: WENNERSTRÖM, HELENA | H5: 2 | I5: 076 392 86 22
A6: 44873 | B6: 100 | C6: BG INSÄTTNING 1 | D6: BG INSÄTTNING 1 | E6: 5357-5205 | F6: Herman Johansson | G6: herman.johansson@wester-elsner.se | H6: 1 | J6: Yrsagäven 3, 182 55 Djursholm
A7: 44872 | B7: 150 | C7: SWISH INBETAL | D7: SWISH INBETAL | E7: Frank Harald Murray | G7: frankmurray42@gmail.com | H7: 2
A8: 44866 | B8: -18 | C8: SWISH AVGIFT | D8: SWISH AVGIFT | E8: 1230313866
A9: 44859 | B9: 151 | C9: BG INSÄTTNING 1 | D9: BG INSÄTTNING 1 | E9: 5357-5205 | F9: Stefan, Janna, Gigi, Platon Marko | H9: 4 | J9: Brinken 6, 182 73. Stocksund
A10: 44851 | B10: 150 | C10: SWISH INBETAL | D10: SWISH INBETAL | E10: CECILIA WEHLÉN | F10: Cecilia & L. Wehlén | G10: lars.wehlen@hotmail.com | H10: 2
A11: 44848 | B11: 100 | C11: BG INSÄTTNING 1 | D11: BG INSÄTTNING 1 | E11: 5357-5205 | F11: Ove Svantegård | G11: OWE.SVANTEGARD@GMAIL.COM | H11: 1 | I11: 073-755 41 07 | J11: MÖRBYHÖJDEN 12 LGH 1401, 182 32 Danderyd
A12: 44847 | B12: 150 | C12: BG INSÄTTNING 2 | D12: BG INSÄTTNING 2 | E12: 5357-5205 | F12: Agneta o Calle Flach | G12: agneta.flach@icloud.com | H12: 2 | J12: Ösbyvägen 35, 18254 Djurholm
A13: 44846 | B13: 100 | C13: BG INSÄTTNING 1 | D13: BG INSÄTTNING 1 | E13: 5357-5205 | F13: Kerstin Kuntzel | G13: kerstin.kuentzelattelia.com | H13: 1 | J13: Vendevägen 5 C lgh 1101, 182 69 Djursholm
A14: 44845 | B14: 150 | C14: SWISH INBETAL | D14: SWISH INBETAL | E14: Mikael Adriansson | F14: Fam. Mikael Adriansson | G14: Micke.adriansson@gmail.com | H14: 3 | I14: 070 940 98 02
A15: 44845 | B15: 150 | C15: SWISH INBETAL | D15: SWISH INBETAL | E15: LUNDGREN, KARIN | F15: Karin och Kenn Lundgren | G15: karinmlundgren@outlook.com | H15: 2 | I15: 070 290 41 87
A16: 44844 | B16: 150 | C16: BG INSÄTTNING 1 | D16: BG INSÄTTNING 1 | E16: 5357-5205 | F16: Jan och Mia Egnefors | G16: janchrister.egnefors@hotmail.com | H16: 2 | J16: Kårevägen 16, 182 66 Djursholm
A17: 44844 | B17: 150 | C17: SWISH INBETAL | D17: SWISH INBETAL | E17: WOHLFAHRT, GUSTAV | F17: Fam Gustav Wohlfahrt | H17: 2 | I17: 070 995 59 55
A18: 44844 | B18: 150 | C18: SWISH INBETAL | D18: SWISH INBETAL | E18: Urban Wrethagen | G18: wrethagenurban@gmail.com | H18: 2 | I18: 073 587 05 12
A19: 44841 | B19: 100 | C19: SWISH INBETAL | D19: SWISH INBETAL | E19: DILLNER, PER | F19: Per Dillner | G19: pdillner@icloud.com | H19: 1 | I19: 070 433 33 47
A20: 44841 | B20: 150 | C20: SWISH INBETAL | D20: SWISH INBETAL | E20: JUFORS, MADELEINE | G20: madeleinejufors@hotmail.com | H20: 2 | I20: 070 621 40 40
A21: 44839 | B21: 150 | C21: BG INSÄTTNING 1 | D21: BG INSÄTTNING 1 | E21: 5357-5205 | F21: Annette och Gunnar Alaeus | G21: annette.alaeus@gmail.com | H21: 2 | J21: Kolgavägen 5 A, 182 65 Djursholm
A22: 44838 | B22: 150 | C22: SWISH INBETAL | D22: SWISH INBETAL | E22: Elisabeth Armfelt | F22: Elisabeth Armfelt, Richard Mojansson | G22: richardmojansson@gmail.com, elisabeth.armfelt@live.se | H22: 2 | I22: 076 775 59 96
A23: 44837 | B23: -30 | C23: SWISH AVGIFT | D23: SWISH AVGIFT | E23: 1230313866
A24: 44837 | B24: 150 | C24: SWISH INBETAL | D24: SWISH INBETAL | E24: TORBERGER, JAN | F24: Jan o Lena Torberger | H24: 2 | I24: 073 267 10 73
A25: 44834 | B25: 100 | C25: SWISH INBETAL | D25: SWISH INBETAL | E25: WALDENSTRÖM, CHRISTI | F25: Christina Waldenström | G25: lapleg@telia.com | H25: 1 | I25: 073 939 78 57
A26: 44834 | B26: 150 | C26: SWISH INBETAL | D26: SWISH INBETAL | E26: SCHERWIN,SANNA LINN | F26: Sanna Scherwin | G26: sannahj@hotmail.com | H26: 2 | I26: 076 127 20 68
A27: 44833 | B27: 100 | C27: SWISH INBETAL | D27: SWISH INBETAL | E27: Eva Busch | G27: buscheva@hotmail.com | H27: 1 | I27: 070 843 24 35
A28: 44833 | B28: 100 | C28: SWISH INBETAL | D28: SWISH INBETAL | E28: FRIIS GUNILLA | F28: Anna Larsen | H28: 1
A29: 44833 | B29: 100 | C29: SWISH INBETAL | D29: SWISH INBETAL | E29: Henrik Pompeius | F29: Henrik Pompeius | G29: henrik@pompeius.se | H29: 1 | I29: 073 981 71 90
A30: 44833 | B30: 100 | C30: SWISH INBETAL | D30: SWISH INBETAL | E30: Annika Friberg | G30: annika0303@hotmail.com | H30: 1 | I30: 070 966 37 55
A31: 44833 | B31: 150 | C31: SWISH INBETAL | D31: SWISH INBETAL | E31: EVERUM, OSSIE | F31: Fam Everum | G31: Ossie.everum@gmail.com | H31: 3 | I31: 070 590 88 50
A32: 44833 | B32: 150 | C32: SWISH INBETAL | D32: SWISH INBETAL | E32: BJÖRNSTJERNA, MARTINA | F32: Björnstjerna | H32: 2 | I32: 070 723 00 94
A33: 44832 | B33: 100 | C33: SWISH INBETAL | D33: SWISH INBETAL | E33: Jonas Falck | F33: Jonas Falck | G33: jonas@photo300.com | H33: 1 | I33: 070 890 70 09
A34: 44832 | B34: 100 | C34: SWISH INBETAL | D34: SWISH INBETAL | E34: MÅRTENSSON CECILIA | F34: Cecilia Mårtensson | G34: ciamartensson@hotmail.com | H34: 1 | I34: 070 860 12 34
A35: 44832 | B35: 100 | C35: SWISH INBETAL | D35: SWISH INBETAL | E35: SCHRÖDER, LISEN | F35: Lisen Schröder | G35: lisen.schroder@gmail.com | H35: 1 | I35: 070 712 25 95
A36: 44832 | B36: 100 | C36: SWISH INBETAL | D36: SWISH INBETAL | E36: Susanne Andréason | G36: susanne.gidefeldt@gmail.com | H36: 1 | I36: 073 261 86 62
A37: 44832 | B37: 150 | C37: SWISH INBETAL | D37: SWISH INBETAL | E37: HOLMSTEDT ENGLUND, K | F37: Pia o Fredrik Englund | H37: 2 | I37: 070 825 59 60
A38: 44832 | B38: 150 | C38: SWISH INBETAL | D38: SWISH INBETAL | E38: AXLING, BRITT-MARIE | F38: Axlings | H38: 2 | I38: 070 023 11 10
A39: 44832 | B39: 150 | C39: SWISH INBETAL | D39: SWISH INBETAL | E39: Anne Lundgren | F39: Anne och Göran Lundgren | G39: anne.bontin.lundgren@telia.com | H39: 2 | I39: 070 631 52 02
A40: 44774 | B40: -2 | C40: SWISH AVGIFT | D40: SWISH AVGIFT | E40: 1230313866
A41: 44770 | B41: 150 | C41: BG INSÄTTNING 1 | D41: BG INSÄTTNING 1 | E41: 5357-5205 | F41: KRISTINA OCH CHRISTER ARVAS | G41: christer.arvas@gmail.com | H41: 2
A42: 44755 | B42: 100 | C42: BG INSÄTTNING 1 | D42: BG INSÄTTNING 1 | E42: 5357-5205 | F42: PONTELL HAGKLINT MONICA | G42: monica.pontell@gmail.com | H42: 1
A43: 44750 | B43: 150 | C43: SWISH INBETAL | D43: SWISH INBETAL | E43: Louise Epstein | F43: G Henriksson | H43: 2
A44: 44749 | B44: 150 | C44: BG INSÄTTNING 1 | D44: BG INSÄTTNING 1 | E44: 5357-5205 | F44: EVA O JOHAN OTTERBECK | G44: johan.otterbeck.jo@gmail.com | H44: 2
A45: 44746 | B45: 150 | C45: BG INSÄTTNING 1 | D45: BG INSÄTTNING 1 | E45: 5357-5205 | F45: Jörgen Ellgren | G45: jorgen@ellgren.se | H45: 2
A46: 44743 | B46: -84 | C46: SWISH AVGIFT | D46: SWISH AVGIFT | E46: 1230313866
A47: 44740 | B47: 100 | C47: BG INSÄTTNING 1 | D47: BG INSÄTTNING 1 | E47: 5357-5205 | F47: Ann Ryberg | H47: 1
A48: 44739 | B48: 150 | C48: BG INSÄTTNING 1 | D48: BG INSÄTTNING 1 | E48: 5357-5205 | F48: John Lovering | G48: johnlovering54@gmail.com | H48: 2
A49: 44734 | B49: 100 | C49: SWISH INBETAL | D49: SWISH INBETAL | E49: BANÉR, ANNE | G49: annebaner@gmail.com | H49: 1
A50: 44733 | B50: 100 | C50: SWISH INBETAL | D50: SWISH INBETAL | E50: ANKARCRONA, MI | H50: 1
A51: 44733 | B51: 100 | C51: SWISH INBETAL | D51: SWISH INBETAL | E51: HOLST ÅBERG, JOANNA | H51: 1
A52: 44733 | B52: 400 | C52: BG INSÄTTNING 1 | D52: BG INSÄTTNING 1 | E52: 5357-5205 | F52: ERIC GIERTZ | G52: eric.giertz@gmail.com | H52: 1
A53: 44733 | F53: INGRID GIERTZ | G53: ingrid.giertz@gmail.com | H53: 1
A54: 44733 | F54: HERMAN KEUSSEN | G54: keussen@bahnhof.se | H54: 1
A55: 44733 | F55: Henrik Berggren | G55: heja.berggren@gmail.com | H55: 1
A56: 44732 | B56: 100 | C56: SWISH INBETAL | D56: SWISH INBETAL | E56: DILLNER, PER | G56: pdillner@icloud.com | H56: 1
A57: 44732 | B57: 100 | C57: SWISH INBETAL | D57: SWISH INBETAL | E57: TORBERGER, ULF | H57: 1
A58: 44732 | B58: 100 | C58: SWISH INBETAL | D58: SWISH INBETAL | E58: Eva Jacobsson | G58: eva.jacobsson@telia.com | H58: 1
A59: 44732 | B59: 100 | C59: SWISH INBETAL | D59: SWISH INBETAL | E59: ENGSTRAND, ANDERS | H59: 1
A60: 44732 | B60: 100 | C60: SWISH INBETAL | D60: SWISH INBETAL | E60: TINGSTRÖM, RAGNAR | G60: ragnar@scream.se | H60: 1
A61: 44732 | B61: 100 | C61: SWISH INBETAL | D61: SWISH INBETAL | E61: LARS HOLMQVIST | G61: larsholmqv@gmail.com | H61: 1
A62: 44732 | B62: 100 | C62: SWISH INBETAL | D62: SWISH INBETAL | E62: REUTERWALL-PSARRIS, | F62: Maud Reuterwall | H62: 1
A63: 44732 | B63: 100 | C63: SWISH INBETAL | D63: SWISH INBETAL | E63: MANNERSON, SOFIE | H63: 1
A64: 44732 | B64: 100 | C64: SWISH INBETAL | D64: SWISH INBETAL | E64: Joachim Gahm | G64: joachim@gahm.Com | H64: 1
A65: 44732 | B65: 100 | C65: SWISH INBETAL | D65: SWISH INBETAL | E65: Karin Nordvaller | G65: karin@nordvaller.se | H65: 1
A66: 44732 | B66: 100 | C66: SWISH INBETAL | D66: SWISH INBETAL | E66: ECKERSTRÖM WACHTMEIS | F66: Anna Wachtmeister | G66: anna.e.wachtmeister@gmail.com | H66: 1
A67: 44732 | B67: 100 | C67: SWISH INBETAL | D67: SWISH INBETAL | E67: BJÖRKMAN, MARIE-LOUI | G67: Bjorkman.ml@gmail.com | H67: 1
A68: 44732 | B68: 100 | C68: SWISH INBETAL | D68: SWISH INBETAL | E68: Marie Alrutz | H68: 1
A69: 44732 | B69: 100 | C69: SWISH INBETAL | D69: SWISH INBETAL | E69: Birgitta de Verdier | G69: Birgitta.deverdier@gmail.com | H69: 1
A70: 44732 | B70: 100 | C70: SWISH INBETAL | D70: SWISH INBETAL | E70: Peter Knafve | F70: Astrid Sellergren | G70: astrid.sellergren@gmail.com | H70: 1
A71: 44732 | B71: 100 | C71: SWISH INBETAL | D71: SWISH INBETAL | E71: Peter Knafve | G71: peter.knafve@telia.com | H71: 1
A72: 44732 | B72: 150 | C72: SWISH INBETAL | D72: SWISH INBETAL | E72: Madeleine Pagelz | G72: madeleinepagelz@gmail.com | H72: 2
A73: 44732 | B73: 150 | C73: SWISH INBETAL | D73: SWISH INBETAL | E73: BJÖRNSSON, BJÖRN | F73: Annika, Hedda, Gustaf, Björn Björnsson | G73: bjorn@bjornssons.se | H73: 4
A74: 44732 | B74: 150 | C74: SWISH INBETAL | D74: SWISH INBETAL | E74: Anne Lundgren | F74: Göran Lundgren | G74: anne.bontin.lundgrenattelia.com | H74: 2
A75: 44732 | B75: 150 | C75: SWISH INBETAL | D75: SWISH INBETAL | E75: Carl Erik Eriksson | G75: carlerikeriksson@mac.com | H75: 2
A76: 44732 | B76: 150 | C76: SWISH INBETAL | D76: SWISH INBETAL | E76: ERIK EDMAN | F76: Familjen Edman | G76: erik@edman.eu | H76: 2
A77: 44732 | B77: 150 | C77: SWISH INBETAL | D77: SWISH INBETAL | E77: Clarence Reuterswärd | H77: 2
A78: 44732 | B78: 150 | C78: SWISH INBETAL | D78: SWISH INBETAL | E78: Martin Ritzén | F78: Bibbi Ritzen | H78: 2
A79: 44732 | B79: 150 | C79: SWISH INBETAL | D79: SWISH INBETAL | E79: KARSTEN HUSBERG | G79: karsten@husberg.fr | H79: 2
A80: 44732 | B80: 150 | C80: SWISH INBETAL | D80: SWISH INBETAL | E80: FRIIS GUNILLA | F80: Familjen Peder Friis | H80: 2
A81: 44732 | B81: 150 | C81: SWISH INBETAL | D81: SWISH INBETAL | E81: REZA FARHANG | G81: rezurt@gmail.com | H81: 2
A82: 44732 | B82: 150 | C82: SWISH INBETAL | D82: SWISH INBETAL | E82: Eva Drangel | F82: Johan och Eva Drangel | G82: evadrangel@gmail.com | H82: 2
A83: 44732 | B83: 150 | C83: SWISH INBETAL | D83: SWISH INBETAL | E83: FRIIS GUNILLA | F83: Familjen Peder Friis | H83: 2
A84: 44732 | B84: 150 | C84: SWISH INBETAL | D84: SWISH INBETAL | E84: Sebastian Billing | F84: Familjen Stenbeck Billing | H84: 2
A85: 44732 | B85: 150 | C85: SWISH INBETAL | D85: SWISH INBETAL | E85: Ulla Elisabeth Lundi | F85: Fam Lundin | G85: Elisabeth.lundin@geum.se | H85: 2
A86: 44732 | B86: 150 | C86: SWISH INBETAL | D86: SWISH INBETAL | E86: SOLVEIG BRUNNER | G86: solveigbrunner@outlook.com | H86: 2
A87: 44732 | B87: 150 | C87: SWISH INBETAL | D87: SWISH INBETAL | E87: HANNA LILLIESKÖLD RI | F87: Claes Lilliesköld | G87: Hanna.Rickberg@gmail.com | H87: 2
A88: 44732 | B88: 150 | C88: SWISH INBETAL | D88: SWISH INBETAL | E88: Christina Bonrud-Arn | F88: Körmendi | H88: 2
A89: 44732 | B89: 150 | C89: SWISH INBETAL | D89: SWISH INBETAL | E89: EVERUM, OSSIE | H89: 2
A90: 44732 | B90: 150 | C90: SWISH INBETAL | D90: SWISH INBETAL | E90: CRAELIUS,CARIN | F90: Familjemedlemskap Carin o Per Craelius | H90: 2
A91: 44732 | B91: 150 | C91: SWISH INBETAL | D91: SWISH INBETAL | E91: LENZ, JÖRGEN | G91: jorgen.lenz@gmail.com | H91: 2
A92: 44732 | B92: 150 | C92: SWISH INBETAL | D92: SWISH INBETAL | E92: Christian Lépée | F92: Familj Lépée-Ericson | G92: christianlepee@gmail.com | H92: 2
A93: 44732 | B93: 150 | C93: SWISH INBETAL | D93: SWISH INBETAL | E93: WEHLÈN,BJÖRN | F93: Patricia & Björn Wehlén | H93: 2
A94: 44732 | B94: 150 | C94: SWISH INBETAL | D94: SWISH INBETAL | E94: AVELLAN-HULTMAN, LAR | F94: Lars och Maria Avellan | G94: lars.avellan@telia.com | H94: 2
A95: 44732 | B95: 500 | C95: BG INSÄTTNING 1 | D95: BG INSÄTTNING 1 | E95: 5357-5205 | F95: TORBERGER MATS | G95: MATS.TORBERGER@GMAIL.COM | H95: 1
A96: 44732 | F96: LOEPER GRAFSTRÖM KARIN | H96: 1
A97: 44732 | F97: LARS OLOF MALMSTRÖM | G97: lo.malmstrom@gmail.com | H97: 2
A98: 44732 | F98: WAERN OLOF | G98: OLOF.WAERN@TELIA.COM | H98: 2
A99: 44713 | B99: -2 | C99: SWISH AVGIFT | D99: SWISH AVGIFT | E99: 1230313866
A100: 44701 | B100: 150 | C100: SWISH INBETAL | D100: SWISH INBETAL | E100: Anna Sahlin Engsner | F100: Fam Engsner (Anna, Henrik, Vera) | G100: engsner@me.com | H100: 3
...

Sheet Medlemsregister 2022
A4: Förnamn | B4: Efternamn | C4: Gatuadress | D4: Post nr | E4: Postort | F4: epost | G4: Familj | H4: Familjemedlemmar | I4: Ytterligare mailadresser | J4: Medlemsräkning | K4: Telefonnr | L4: Inbet belopp
A5: Mikael | B5: Adriansson | C5: Västerviksv 1F | D5: 18235 | E5: Danderyd | F5: Micke.adriansson@gmail.com | G5: Familj | J5: 2 | K5: 070 940 98 02 | L5: 150
A6: Gunnar | B6: Alaeus | C6: Kolgavägen 1A | D6: 18265 | E6: djursholm | F6: annette.alaeus@gmail.com | G6: Familj | H6: Annette | J6: 2 | L6: 150
A7: Marie | B7: Alrutz | F7: marie@alrutz.nu | G7: Enskild | J7: 1 | L7: 100
A8: Susanne | B8: Andreason-Gidefeldt | C8: Villavägen 35A | D8: 18279 | E8: Stocksund | F8: susanne.gidefeldt@gmail.com | G8: Enskild | J8: 1 | K8: 073 261 86 62 | L8: 100
A9: Märtha | B9: Angert Lilliestråle | C9: Vendevägen 13 | D9: 18269 | E9: Djursholm | F9: martha.a.lilliestrale@gmail.com | G9: Familj | J9: 2 | L9: 150 | M9: Utträde pga politiskt engagemang
A10: Mi | B10: Ankarcrona | C10: Fritiofsvägen 5 | D10: 18254 | E10: Djursholm | F10: mi.ankarcrona@gmail.com | G10: Enskild | J10: 1 | L10: 100
A11: Elisabeth | B11: Armfelt | C11: Norevägen 59 | D11: 18254 | E11: Djursholm | F11: elisabeth.armfelt@gmail.com | G11: Familj | H11: Richard Mojansson | I11: richardmojansson@gmail.com | J11: 2 | K11: 076 775 59 96 | L11: 150
A12: Kristina | B12: Arvas | F12: christer.arvas@gmail.com | G12: Familj | H12: Christer | J12: 2 | L12: 150
A13: Lars | B13: Avellan-Hultman | C13: Österängsv 42A | D13: 18247 | E13: Enebyberg | F13: lars.avellan@telia.com | G13: Familj | H13: Maria | J13: 2 | L13: 150
A14: Britt-Marie | B14: Axling | C14: Njordvägen 4 | D14: 18255 | E14: Djursholm | F14: bitteaxling@hotmail.com | G14: Familj | H14: Olle | I14: oaxling@gmail.com | J14: 2 | K14: 070 023 11 10 | L14: 150
A15: Anne | B15: Banér | C15: Vendestigen 1 | D15: 18266 | E15: Djursholm | F15: annebaner@gmail.com | G15: Enskild | J15: 1 | L15: 100
A16: Henrik | B16: Berggren | C16: Skandiavägen 11 | D16: 18263 | E16: Djursholm | F16: heja.berggren@gmail.com | G16: Enskild | J16: 1
A17: Marie-Louise | B17: Björkman | C17: Sveavägen 18B | D17: 18262 | E17: Djursholm | F17: bjorkman.ml@gmail.com | G17: Enskild | J17: 1 | L17: 100
A18: Björn | B18: Björnsson | C18: Auravägen 2 | D18: 18260 | E18: Djursholm | F18: bjorn@bjornssons.se | G18: Familj | H18: Gunilla | J18: 2 | L18: 150
A19: Martina | B19: Björnstjerna | C19: Eketorpsvägen 1 | D19: 18261 | E19: Djursholm | F19: martinabjornstierna@hotmail.com | G19: Familj | H19: Annika, Hedda, Gustaf, Björn | J19: 5 | K19: 070 723 00 94 | L19: 150
A20: Christina | B20: Bonrud-Arnesen | C20: Kårevägen 18 | D20: 18266 | E20: Djursholm | G20: Familj | H20: Körmendi | J20: 2 | L20: 150
A21: Leif Arne | B21: Bornvik | F21: leif.bornvik@gmail.com | G21: Familj | H21: Viveka | J21: 2 | L21: 150
A22: Solveig | B22: Brunner | F22: solveigbrunner@outlook.com | G22: Familj | J22: 2 | L22: 150
A23: Eva | B23: Busch | C23: Grimvägen 3 | D23: 18268 | E23: Djursholm | F23: buscheva@hotmail.com | G23: Enskild | J23: 1 | K23: 070 843 24 35 | L23: 100
A24: Carin | B24: Craelius Hultin | C24: Rosvägen 1 | D24: 18278 | E24: Stocksund | F24: carin.craelius@gmail.com | G24: Familj | H24: Per | J24: 2 | L24: 150
A25: Birgitta | B25: de Verdier | C25: Mörbyleden 22 | D25: 18232 | E25: Danderyd | F25: birgittadeverdier@gmail.com | G25: Enskild | J25: 1 | L25: 100
A26: Marianne | B26: Dillner | C26: Grevgatan 59A | D26: 11459 | E26: Stockhiolm | G26: Enskild | J26: 1 | L26: 100
A27: Per | B27: Dillner | C27: Stefan Löfvingsv 37 | D27: 18541 | E27: Vaxholm | F27: pdillner@icloud.com | G27: Enskild | J27: 1 | K27: 070 433 33 47 | L27: 100
A28: Eva | B28: Drangel | C28: Pontongränd 19 | D28: 18268 | E28: Täby | F28: evadrangel@gmail.com | G28: Familj | H28: Johan | J28: 2 | L28: 150
A29: Anna | B29: Eckerström-Wachtmeister | C29: Upplandsgatan 1 | D29: 11360 | E29: Stockhiolm | F29: anna.e.wachtmeister@gmail.com | G29: Enskild | J29: 1 | L29: 100
A30: Erik | B30: Edman | C30: Vendevägen 65 | D30: 18266 | E30: Djursholm | F30: erik@edman.eu | G30: Familj | H30: Anna | J30: 2 | L30: 150
A31: Jan-Christer | B31: Egnefors | C31: Kårevägen 16 | D31: 18266 | E31: Djursholm | F31: janchrister.egnefors@hotmail.com | G31: Familj | H31: Mia | J31: 2 | L31: 150
A32: Jörgen | B32: Ellgren | C32: Stallbacken 13 | D32: 18267 | E32: Djursholm | F32: jorgen@ellgren.nu | G32: Familj | J32: 2 | L32: 150
A33: Anders | B33: Engstrand | C33: Jägerbacken 18 | D33: 18239 | E33: Danderyd | F33: anders@engstrandvision.se | G33: Enskild | J33: 1 | L33: 100
A34: Louise | B34: Epstein | C34: Lillkalmarv 27 | D34: 18265 | E34: Djursholm | F34: louise.epstein@sr.se | G34: Familj | H34: Greger | J34: 2 | L34: 150
A35: Carl-Erik | B35: Eriksson | C35: Modevägen 4 | D35: 18261 | E35: Djursholm | F35: carlerikeriksson@mac.com | G35: Familj | J35: 2 | L35: 150
A36: Ossie | B36: Everum | C36: Valevägen 59 | D36: 18264 | E36: Djursholm | F36: ossie.everum@gmail.com | G36: Familj | H36: Gerthy | J36: 2 | K36: 070 590 88 50 | L36: 150
A37: Jonas | B37: Falck | C37: Lindholmens gå | D37: 18694 | E37: Vallentuna | F37: jonas@photo300.com | G37: Enskild | J37: 1 | K37: 070 890 70 09 | L37: 100
A38: Reza | B38: Farhang | C38: Bragevägen 3 | D38: 18264 | E38: Djursholm | F38: rezurt@gmail.com | G38: Familj | H38: Johan, Emil, Lea | J38: 4 | L38: 150
A39: Calle | B39: Flach | C39: Ösbyvägen 35 | D39: 18254 | E39: Djursholm | F39: agneta.flach@icloud.com | G39: Familj | H39: Agneta, Jonas, Eva Lotta, William, Georg, Fredrik, Pauline, Nicki | J39: 9 | L39: 150
A40: Annika | B40: Friberg | C40: Mörbyhöjden 7 | D40: 18232 | E40: Danderyd | F40: annika0303@hotmail.com | G40: Enskild | J40: 1 | K40: 070 966 37 55 | L40: 100
A41: Gunilla | B41: Friis | C41: Norevägen 57 | D41: 18264 | E41: Djursholm | F41: gunilla@friis.se | G41: Familj | H41: Peder | J41: 2 | L41: 150
A42: Joachim | B42: Gahm | C42: Valevägen | D42: 18264 | E42: Djursholm | F42: joachim@gahm.se | G42: Enskild | J42: 1 | L42: 100
A43: Eric | B43: Giertz | C43: Danderydsv 16E | D43: 18266 | E43: Djursholm | F43: ericgiertz@gmail.com | G43: Familj | H43: Ingrid | J43: 2 | L43: 400
A44: Carin | B44: Grafström Loeper | C44: Danderydsv 107 | D44: 18255 | E44: Djursholm | F44: carin.grafstrom@gmail.com | G44: Familj | H44: Jan | J44: 2
A45: Johan | B45: Gröndal | F45: johan.grondal@gmail.com | G45: Enskild | J45: 1 | L45: 100
A46: Lars | B46: Holmqvist | F46: larsholmqv@gmail.com | G46: Enskild | H46: Eva | J46: 2 | L46: 100
A47: Pia | B47: Holmstedt-Englund | C47: Grimvägen 5 | D47: 18268 | E47: Djursholm | F47: pia.holmeng@gmail.com | G47: Familj | H47: Fredrik | J47: 2 | K47: 070 825 59 60 | L47: 150
A48: Joanna | B48: Holst-Åberg | F48: joanna.h.aberg@gmail.com | G48: Enskild | J48: 1 | L48: 100
A49: Karsten | B49: Husberg | C49: Fafnerstogen 6 | D49: 18266 | E49: Djursholm | F49: karsten@husberg.fr | G49: Familj | H49: Åsa | J49: 2 | L49: 150
A50: Lydia | B50: Hyltén-Cavalli | F50: lydia@wegaadvokater.se | G50: Familj | H50: Fredrik | J50: 2 | L50: 150
A51: Eva | B51: Jacobsson | C51: Eketorpsvägen 12 | D51: 18261 | E51: Djursholm | F51: eva.jacobsson@telia.com | G51: Enskild | J51: 1 | L51: 100
A52: Herman | B52: Johansson | C52: Auravägen 31A | D52: 18268 | E52: Djursholm | F52: herman.johansson@wester-elsner.se | G52: Enskild | J52: 1 | L52: 100
A53: Madeleine | B53: Jufors | C53: Danderydsv 69A | D53: 18262 | E53: Djursholm | F53: madeleinejufors@hotmail.com | G53: Familj | J53: 2 | K53: 070 621 40 40 | L53: 150
A54: Lennart Herman | B54: Keussen | C54: Mörbydalen 10 | D54: 18252 | E54: Danderyd | F54: lennart.keussen@gmail.com | G54: Enskild | I54: keussen@bahnhof.se | J54: 1
A55: Peter | B55: Knafve | C55: Valevägen 25 | D55: 18264 | E55: Djursholm | F55: peter.knafve@telia.com | G55: Enskild | J55: 1 | L55: 100
A56: Kerstin | B56: Kuntzel Sjöström | C56: Vendevägen 5 C | D56: 18269 | E56: Djursholm | F56: kerstin.kuentzelattelia.com | G56: Enskild | J56: 1 | L56: 100
A57: Lars | B57: Lagerström | C57: Fylgiavägen 11 | D57: 18254 | E57: Djursholm | F57: lars.r.lagerstrom@gmail.com | G57: Familj | J57: 2 | L57: 300
A58: Jörgen | B58: Lenz | C58: Kårevägen 22 | D58: 18266 | E58: Djursholm | F58: jorgen.lenz@gmail.com | G58: Familj | J58: 2 | L58: 150
A59: Christian | B59: Lépée | C59: Dalagatan 56A | D59: 11324 | E59: Stockhiolm | F59: christianlepee@gmail.com | G59: Familj | J59: 2 | L59: 150
A60: Hanna | B60: Lilliesköld-Rickberg | F60: hanna.rickberg@gmail.com | G60: Familj | H60: Claes | J60: 2 | L60: 150
A61: John | B61: Lovering | C61: Alfhemsv 19 | D61: 18262 | E61: Djursholm | F61: jonhnlovering54@gmail.com | G61: Familj | H61: Ebba | J61: 2 | L61: 150
A62: Anne | B62: Lundgren | C62: Meijerfeldtsv 35 | D62: 18256 | E62: Täby | F62: anne.bontin.lundgren@telia.com | G62: Familj | H62: Göran | J62: 2 | K62: 070 631 52 02 | L62: 150
A63: Karin | B63: Lundgren | C63: Meijerfeldtsv 35 | D63: 18256 | E63: Täby | F63: karinmlundgren@outlook.com | G63: Familj | H63: Kenn | J63: 2 | K63: 070 290 41 87 | L63: 150
A64: Yvonne | B64: Lundin | C64: Åkerbyvägen 88 | D64: 18235 | E64: Täby | F64: ludde63@hotmail.com | G64: Familj | H64: Ulla Elisabeth | I64: bettan.lundin@gmail.com, Elisabeth.lundin@geum.se | J64: 2 | L64: 150
A65: LO | B65: Malmström | C65: Gautiodsvägen 1 | D65: 18262 | E65: Djursholm | F65: lo.malmström@gmail.com | G65: Familj | H65: Anna-Lena | J65: 2
A66: Sofie | B66: Mannersson | C66: Torstenssonsv 7 | D66: 18266 | E66: Djursholm | F66: sofie.mannerson@gmail.com | G66: Enskild | J66: 1 | L66: 100
A67: Stefan | B67: Marko | G67: Familj | H67: Janna, Gigi, Platon | J67: 4 | L67: 151
A68: Cecilia | B68: Mårtensson | C68: Lilllkalmarv 26A | D68: 18265 | E68: Djursholm | F68: ciamartensson@hotmail.com | G68: Enskild | J68: 1 | K68: 070 860 12 34 | L68: 100
A69: Frank | B69: Murray | C69: Koltrastvägen 2A | D69: 18252 | E69: Täby | F69: frankmurray42@gmail.com | G69: Familj | H69: Cristina | I69: cristina.ridderstad.murray@gmail.com | J69: 2 | L69: 150
A70: Karin | B70: Nordvaller | C70: Dahlbergsvägen 28 | D70: 18262 | E70: Djursholm | F70: karin@nordvaller.se | G70: Enskild | J70: 1 | L70: 100
A71: Johan | B71: Otterbeck | F71: otterbeck.jo@gmail.com | G71: Familj | H71: Eva | I71: johan.otterbeck.jo@gmail.com | J71: 2 | L71: 150
A72: Madeleine | B72: Pagelz | C72: Sveavägen 66 | D72: 18262 | E72: Djursholm | F72: madeleinepagelz@gmail.com | G72: Familj | H72: Nicolaz, Mauritz | J72: 3 | L72: 150
A73: Henrik | B73: Pompeius | F73: henrik@pompeius.se | G73: Enskild | J73: 1 | K73: 073 981 71 90 | L73: 100
A74: Monica | B74: Pontell Hagklint | C74: Aug Wahlströms v 8 | D74: 18231 | E74: Danderyd | F74: monica.pontell@gmail.com | G74: Enskild | J74: 1 | L74: 100
A75: Clarence | B75: Reuterswärd | C75: Östbergavägen 4 | D75: 18262 | E75: Djursholm | F75: reutersward55@gmail.com | G75: Familj | H75: Yvonne, Didrik, Angelica, Clarence | J75: 5 | L75: 150
A76: Maud | B76: Reuterwall-Psarris | C76: Mörbyhöjden 10 | D76: 18232 | E76: Danderyd | F76: maudrwall@telia.com | G76: Enskild | J76: 1 | L76: 100
A77: Martin | B77: Ritzén | C77: Fafnervägen 11 | D77: 18266 | E77: Djursholm | F77: martin.ritzen@ki.se | G77: Familj | H77: Bibbi | J77: 2 | L77: 150
A78: Ann | B78: Ryberg | C78: Kårevägen 20 | D78: 18266 | E78: Djursholm | F78: annryberg@me.com | G78: Enskild | J78: 1 | L78: 100
A79: Anna | B79: Sahlin Engsner | F79: engsner@me.com | G79: Familj | H79: Henrik, Vera | J79: 3 | L79: 150
A80: Sanna | B80: Scherwin | C80: Danderydsvägen | E80: Djursholm | F80: sannahj@hotmail.com | G80: Familj | J80: 2 | K80: 076 127 20 68 | L80: 150
A81: Lisen | B81: Schröder | F81: lisen.schröder@gmail.com | G81: Enskild | J81: 1 | K81: 070 712 25 95 | L81: 100
A82: Astrid | B82: Sellergren | C82: Mörbydalen 20 | D82: 18252 | E82: Danderyd | F82: astrid.sellergren@gmail.com | G82: Enskild | J82: 1 | L82: 100
A83: Sebastian | B83: Stenbeck Billing | G83: Familj | J83: 2 | L83: 150
A84: Owe | B84: Svantegård | C84: Mörbyhöjden 12 | D84: 18232 | E84: Danderyd | F84: owe.svantegard@gmail.com | G84: Enskild | J84: 1 | K84: 073-755 41 07 | L84: 100
A85: Ragnar | B85: Tingström | C85: Saturnusväg 4D | D85: 18450 | E85: Åkersberga | F85: ragnar@scream.se | G85: Enskild | J85: 1 | L85: 100
A86: Jan | B86: Torberger | C86: Flygvillevägen 4 | D86: 18267 | E86: Täby | F86: jan.torberger@gmail.com | G86: Familj | H86: Lena, Carl, Hedvig | J86: 4 | K86: 073 267 10 73 | L86: 150
A87: Mats | B87: Torberger | F87: torberger@gmail.com | G87: Enskild | I87: MATS.TORBERGER@GMAIL.COM | J87: 1 | L87: 500
A88: Ulf | B88: Torberger | C88: Jaktvägen 81 | D88: 18742 | E88: Spånga | F88: ulf.torberger@gmail.com | G88: Enskild | J88: 1 | L88: 100
A89: Christer | B89: Ulff | C89: Beckholmsvägen | D89: 11521 | E89: Stockhiolm | F89: christer.ulff@toreulff.se | G89: Familj | H89: Suzanne, Emelie, Carolina, Fredik | I89: suzanne.ulff@gmail.com, emelie.ulff@hotmail.com, carolina.ulff@toreulff.se, fredriks.ulff@hotmail.com | J89: 5 | L89: 150
A90: Maria | B90: Wadmark Hägerdal | F90: maria@hagerdal.eu | G90: Familj | H90: Martin, Alice, August | J90: 4 | L90: 150
A91: Olof | B91: Waern | F91: olof.waern@telia.com | G91: Familj | H91: Marguerite | J91: 2
A92: Christina | B92: Waldenström | C92: Auravägen 31A | D92: 18268 | E92: Djursholm | F92: lapleg@telia.com | G92: Enskild | J92: 1 | K92: 073 939 78 57 | L92: 100
A93: Cecilila | B93: WEHLÉN | C93: Ekeby skogsväg | D93: 18255 | E93: Djursholm | F93: wehlen@hotmail.com | G93: Familj | H93: Lars | I93: lars.wehlen@hotmail.com | J93: 2 | L93: 150
A94: Björn | B94: Wehlèn | C94: Ättehagsvägen 2 | D94: 18762 | E94: Täby | F94: bwehlen@gmail.com | G94: Familj | H94: Patricia | J94: 2 | L94: 150
A95: Maj-Lena | B95: Welin | F95: lars.welin@live.se | G95: Enskild | H95: Lars | J95: 2 | L95: 100
A96: Helena | B96: Wennerström | C96: Drottvägen 9B | D96: 18264 | E96: Djursholm | F96: helena@wennark.se | G96: Familj | J96: 2 | K96: 076 392 86 22 | L96: 150
A97: Gustav | B97: Wohlfart | C97: Germaniav 1 | D97: 18268 | E97: Djursholm | F97: gw@mailboxes.se | G97: Familj | J97: 2 | K97: 070 995 59 55 | L97: 150
A98: Urban | B98: Wrethagen | C98: Spersbodav | D98: 18732 | E98: Täby | F98: wrethagenurban@gmail.com | G98: Familj | J98: 2 | K98: 073 587 05 12 | L98: 150

Sheet mailadresser 22 t 24
A4: Totalt 105 st mailadresser:
A5: marie@alrutz.nu
A6: susanne.gidefeldt@gmail.com
A7: mi.ankarcrona@gmail.com
A8: bjorkman.ml@gmail.com
A9: buscheva@hotmail.com
A10: birgittadeverdier@gmail.com
A11: anders@engstrandvision.se
A12: jonas@photo300.com
A13: annika0303@hotmail.com
A14: joanna.h.aberg@gmail.com
A15: eva.jacobsson@telia.com
... A114: MARIE.BELE@HOTMAIL.COM

Sheet Kto balans 2022-12-31
I2: Row Labels | J2: Sum of Belopp
A3: ÖBV 2022 | I3: BG INSÄTTNING 1 | J3: 2751
I4: BG INSÄTTNING 2 | J4: 150
I5: Skandinaviska Enskilda Ba | J5: -8027.4
A6: IB 2022-01-01 | B6: 25914.8 | I6: SWISH AVGIFT | J6: -754
A7: Medl avgifter | B7: =GETPIVOTDATA("Belopp",$I$2,"Namn","BG INSÄTTNING 1")+GETPIVOTDATA("Belopp",$I$2,"Namn","BG INSÄTTNING 2")+GETPIVOTDATA("Belopp",$I$2,"Namn","SWISH INBETAL") -> 12901 | I7: SWISH INBETAL | J7: 10000
A8: Bank avg | B8: =GETPIVOTDATA("Belopp",$I$2,"Namn","SWISH AVGIFT")+GETPIVOTDATA("Belopp",$I$2,"Namn","PRIS ENL SPEC") -> -2054 | I8: (blank)
A9: Omkostnader | B9: =GETPIVOTDATA("Belopp",$I$2,"Namn","Skandinaviska Enskilda Ba") -> -8027.4 | I9: PRIS ENL SPEC | J9: -1300
A10: UB 2022-12-31 | B10: 28734.4 | I10: Grand Total | J10: 2819.6
A14: Antal medl avg à 100 kr | B14: 42 | C14: =B14 -> 42 | D14: st
A15: Antal medl avg à 150 kr (2,5p) | B15: 58 | C15: =B15*2.5 -> 145 | D15: st
C16: =SUM(C14:C15) -> 187 | D16: st

Sheet RR BR 2022
A1: Ösbybadets vänner 2022
A3: Balansräkning
A4: TILLGÅNGAR
A5: Bankkonto | B5: 28734.4
A7: SKULDER O EGET KAPITAL
A8: Skulder | B8: 0
A9: Eget kapital | B9: 28734.4
A16: Resultaträkning
A17: INTÄKTER
A18: Medlemsavgifter | B18: 12901
A20: KOSTNADER
A21: Bank avgifter | B21: 2054
A22: Omkostnader | B22: 8027.4
A24: ÅRETS RESULTAT | B24: =B18-B21-B22 -> 2819.6

Sheet Medlemsregister 2021
A1: Efternamn | B1: Förnamn | C1: Gatuadress | D1: Postnummer | E1: Postort | F1: Famil? | G1: Mail | H1: Familjemedlemmar | I1: Ytterligare mailadresser
A2: Abramowwicz | B2: Isak | C2: Forsetevägen 14 | D2: 18267 | E2: Djursholm | F2: Familj | G2: isak.abramowicz@gmail.com | H2: Lisa
A3: Adriansson | B3: Mikael | C3: Västerviksv 1F | D3: 18235 | E3: Danderyd | F3: Familj
A4: Alaeus | B4: Gunnar | C4: Kolgavägen 1A | D4: 18265 | E4: djursholm | F4: Familj | G4: annette.alaeus@gmail.com | H4: Annette
A5: Allerman | B5: Ingrid | C5: Östbergavägen 1 | D5: 18262 | E5: Djursholm | F5: Familj | G5: allerman@telia.com
A6: Alrutz | B6: Marie | G6: marie@alrutz.nu
A7: Andreason-Gidefeldt | B7: Susanne | C7: Villavägen 35A | D7: 18279 | E7: Stocksund | G7: susanne.gidefeldt@gmail.com
A8: Angert Lilliestråle | B8: Märtha | C8: Vendevägen 13 | D8: 18269 | E8: Djursholm | G8: martha.a.lilliestrale@gmail.com
A9: Ankarcrona | B9: Mi | C9: Fritiofsvägen 5 | D9: 18254 | E9: Djursholm | G9: mi.ankarcrona@gmail.com
A10: Annerstedt | B10: Mats | C10: Rindögatan 6 | D10: 11536 | E10: Stockhiolm
A11: Armfelt | B11: Elisabeth | C11: Norevägen 59 | D11: 18254 | E11: Djursholm | G11: elisabeth.armfelt@gmail.com
A12: Arvidsson | B12: Mattias | C12: Adilsvägen 1A | D12: 18254 | E12: Djursholm | F12: Familj | G12: mattias.arvidsson@prv.se
A13: Avellan-Hultman | B13: Lars | C13: Österängsv 42A | D13: 18247 | E13: Enebyberg | F13: Familj | G13: lars.avellan@telia.com | H13: Maria
A14: Avellan-Hultman | B14: Maria
A15: Axling | B15: Britt-Marie | C15: Njordvägen 4 | D15: 18255 | E15: Djursholm | F15: Familj | G15: bitteaxling@hotmail.com | H15: Olle | I15: oaxling@gmail.com
A16: Baner | B16: Anne | C16: Vendestigen 1 | D16: 18266 | E16: Djursholm | G16: annebaner@gmail.com
A17: Berggren | B17: Henrik | C17: Skandiavägen 11 | D17: 18263 | E17: Djursholm | G17: heja.berggren@gmail.com
A18: Bergholm | B18: Jöran | C18: Sveavägen 7B | D18: 18260 | E18: Djursholm | G18: j.bergholm@telia.com
A19: Berglund | B19: Bo | C19: Valevägen 6 | D19: 18261 | E19: Djursholm | G19: bo.berglund@ki.se
A20: Bergman | B20: Heide | C20: Germaniav 1 | D20: 18268 | E20: Djursholm | F20: Familj | G20: heide.bergman@gmail.com
A21: Bergsten | B21: Siv-Britt | C21: Lillkalmarv 9 | D21: 18265 | E21: Djursholm | G21: sivbergsten@hotmail.com
A22: Biederman | B22: Klaus | C22: Föreningsv 4 | D22: 18273 | E22: Stocksund | G22: k.b@kth.se
A23: Bierke | B23: Anne | C23: Väringavägen 23 | D23: 18263 | E23: Djursholm
A24: Björkegren | B24: Eva | C24: Kårevägen 24 | D24: 18266 | E24: Djursholm
A25: Björkegren | B25: Camilla | C25: Celsiusgatan 3 | D25: 11230 | E25: Stockholm
A26: Björkman | B26: Marie-Louise | C26: Sveavägen 18B | D26: 18262 | E26: Djursholm | G26: bjorkman.ml@gmail.com
A27: Björnsson | B27: Björn | C27: Auravägen 2 | D27: 18260 | E27: Djursholm | G27: bjorn@bjornssons.se | H27: Gunilla
A28: Björnstierna | B28: Martina | C28: Eketorpsvägen 1 | D28: 18261 | E28: Djursholm | G28: martinabjornstierna@hotmail.com
A29: Blom | B29: Agneta | C29: Norevägen 59 | D29: 18264 | E29: Djursholm | G29: agnetablom19@gmail.com | H29: Lennie
A30: Boberg | B30: jan | C30: Torstenssonsv 7 L | D30: 18266 | E30: Djursholm | G30: boberg_767@hotmail.com | H30: Cattis, Adrian, Bonnie, Ludvig, Philip
A31: Boman | B31: Anna | C31: Holmgårdsv 6 | D31: 18254 | E31: Djursholm | H31: Calle, Erika
A32: Bonrud-Arnesen | B32: Christina | C32: Kårevägen 18 | D32: 18266 | E32: Djursholm | F32: Familj
A33: Bontin-Lundgren | B33: Anne | C33: Fafnerstigen 3 | D33: 18266 | E33: Djursholm | F33: Familj | G33: anne.bontin.lundgren@telia.com | H33: Göran
A34: Bozorgnia | B34: Ebba | C34: Sveavägen 18B | D34: 18260 | E34: Djursholm | F34: Familj
A35: Brandt | B35: Pelle | C35: Mörbydalen 18 | D35: 18232 | E35: Danderyd | F35: Familj | G35: pelle@pellebrandt.se | H35: Carin
A36: Brunner | B36: Solveig | G36: solveigbrunner@outlook.com
A37: Busch | B37: Eva | C37: Grimvägen 3 | D37: 18268 | E37: Djursholm | G37: buscheva@hotmail.com
A38: Ceder | B38: Sylvia | C38: Fafnervägen 19 | D38: 18266 | E38: Djursholm | F38: Familj
A39: Craelius Hultin | B39: Carin | C39: Rosvägen 1 | D39: 18278 | E39: Stocksund | F39: Familj | G39: carin.craelius@gmail.com
A40: Craelius Hultin | B40: familjen
A41: Crisp | B41: Marie | C41: Breda vägen 84 | D41: 18249 | E41: Enebyberg | G41: mariecrisp3@gmail.com
A42: Dahlgren | G42: e2ulfd@gmail.com
A43: Danielsson | B43: Anders S | C43: Auravägen 31 A | D43: 18268 | E43: Djursholm
A44: Darlington Obel | B44: Gunilla | G44: gunilla.darlington@gmail.com
A45: de Chateau | B45: Simon | C45: Ymervägen 36 | D45: 18267 | E45: Djursholm | G45: simondechateau@hotmail.com | H45: Clara
A46: de Verdier | B46: Birgitta | C46: Mörbyleden 22 | D46: 18232 | E46: Danderyd | G46: birgittadeverdier@gmail.com
A47: Dilllner | B47: Marianne | C47: Grevgatan 59A | D47: 11459 | E47: Stockhiolm
A48: Dilllner | B48: Per | C48: Stefan Löfvingsv 37 | D48: 18541 | E48: Vaxholm | G48: pdillner@icloud.com
A49: Drangel | B49: Eva | C49: Pontongränd 19 | D49: 18268 | E49: Täby | F49: Familj | G49: evadrangel@gmail.com | H49: Johan
A50: Drougge | B50: Lars | C50: Gunnvägen 3 | D50: 18254 | E50: Djursholm | F50: Familj
A51: Eckerström-Wachtmeister | B51: Anna | C51: Upplandsgatan 1 | D51: 11360 | E51: Stockhiolm | G51: anna.e.wachtmeister@gmail.com
A52: Edman | B52: Erik | C52: Vendevägen 65 | D52: 18266 | E52: Djursholm | F52: Familj | G52: erik@edman.eu | H52: Anna
A53: Eevrum | B53: Gerthy | G53: gerthy.everum@gmail.com
A54: Egnefors | B54: Jan-Christer | C54: Kårevägen 16 | D54: 18266 | E54: Djursholm | F54: Familj | G54: janchrister.egnefors@hotmail.com
A55: Elfström | B55: Albert | C55: Vintervägen 5 | D55: 18274 | E55: Stocksund | G55: albert@mlt.nu
A56: Ellgren | B56: Jörgen | C56: Stallbacken 13 | D56: 18267 | E56: Djursholm | F56: Familj | G56: jorgen@ellgren.nu
A57: Engstrand | B57: Anders | C57: Jägerbacken 18 | D57: 18239 | E57: Danderyd | G57: anders@engstrandvision.se
A58: Epstein | B58: Louise | C58: Lillkalmarv 27 | D58: 18265 | E58: Djursholm | G58: louise.epstein@sr.se | H58: Greger
A59: Erhardt | B59: Felix | C59: Fafnerstigen 5B | D59: 18266 | E59: Djursholm | G59: felix.erhardt@gmail.com
A60: Ericson | B60: Petra LH | C60: Hildingavägen 54 | D60: 18266 | E60: Djursholm | G60: plh.ericson@hotmail.com
A61: Eriksson | B61: Carl-Erik | C61: Modevägen 4 | D61: 18261 | E61: Djursholm | G61: carlerikeriksson@mac.com
A62: Eriksson | B62: Malin | C62: Bergvägen 5B | D62: 18246 | E62: Enebyberg | F62: Familj | G62: malin.eriksson@dnb.se | H62: Jacob, Max
A63: Eriksson | B63: Per M | C63: Mörbydalen 24 | D63: 18254 | E63: Danderyd | G63: pm-eriksson@hotmail.com
A64: Everum | B64: Ossie | C64: Valevägen 59 | D64: 18264 | E64: Djursholm | F64: Familj | G64: ossie.everum@gmail.com | H64: Gerthy | I64: jonas@photo300.com
A65: Falck | B65: Jonas | C65: Lindholmens gå | D65: 18694 | E65: Vallentuna | G65: jonas@photo300.com
A66: Farhang | B66: Reza | C66: Bragevägen 3 | D66: 18264 | E66: Djursholm | F66: Familj | G66: rezurt@gmail.com | H66: Johan, Emil, Lea
A67: Flach | B67: Calle | C67: Ösbyvägen 35 | D67: 18254 | E67: Djursholm | H67: Agneta, Jonas, Eva Lotta, William, Georg, Fredrik, Pauline, Nicki
A68: Friberg | B68: Annika | C68: Mörbyhöjden 7 | D68: 18232 | E68: Danderyd | G68: annika0303@hotmail.com
A69: Friis | B69: Gunilla | C69: Norevägen 57 | D69: 18264 | E69: Djursholm | F69: Familj | G69: gunilla@friis.se | H69: Peder
A70: Friis | B70: Carl Johan | C70: Tjalvevägen 7 | D70: 18254 | E70: Djursholm | F70: Familj | G70: carljohanfriis@lmlaw.se | H70: Cecilia, Harry, Lykke, Mauritz
A71: Fritjofson | B71: Eva | C71: Lillkalmarv 21 | D71: 18265 | E71: Djursholm | F71: Familj | G71: fritjofson@gmail.com | H71: C-A, Hermine
A72: Gahm | B72: Joachim | C72: Valevägen | D72: 18264 | E72: Djursholm | F72: Familj | G72: joachim@gahm.se
A73: Giertz | B73: Eric | C73: Danderydsv 16E | D73: 18266 | E73: Djursholm | F73: Familj | G73: ericgiertz@gmail.com | H73: Ingrid
A74: Grafström Loeper | B74: Carin | C74: Danderydsv 107 | D74: 18255 | E74: Djursholm | F74: Familj | G74: carin.grafstrom@gmail.com | H74: Jan
A75: Granqvist | B75: Henrik | C75: Modgunnv 6 | D75: 18255 | E75: Djursholm | F75: Familj | G75: malin.granqvist@gmail.com | H75: Malin, Liv, Axel
A76: Grunden-Wellner | B76: Lena | C76: Belevägen 2 | D76: 18264 | E76: Djursholm | F76: Familj | G76: lenagrunden@yahoo.se | H76: Lars
A77: Hägerdal Wadmark | B77: Maria | C77: Tynplan 6 | D77: 18268 | E77: Djursholm | F77: Familj
A78: Hammarström | B78: Catharina | C78: Fafnervägen 39 B | D78: 18266 | E78: Djursholm | G78: catharinah1@hotmail.com
A79: Havervall | B79: Eric | C79: Norevägen 59 | D79: 18266 | E79: Djursholm | F79: Familj | G79: eric.havervall@gmail.com | H79: Nina
A80: Hedberg | B80: Sten | C80: Golfvägen 33 | D80: 18257 | E80: Danderyd | F80: Familj | G80: greengarden80@hotmail.com | H80: William
A81: Hedgård | B81: Johanna | C81: Lillkalmarv 33 | D81: 18265 | E81: Djursholm | F81: Familj | G81: johanna.hedgard@gmail.com
A82: Hellberg | B82: Elisabeth | C82: Lilltäktsvägen 1 | D82: 18275 | E82: Stocksund | G82: elisabeth.hellberg@outlook.com
A83: Hellmers | B83: Magnus | C83: St Stava gård | D83: 18243 | E83: Åkersberga | F83: Familj | G83: maxhelmers@aol.com
A84: Hemgren | B84: Michaela | C84: Drottvägen 7A | D84: 18264 | E84: Djursholm | F84: Familj | G84: michaela.hemgren@technius.se
A85: Högström | B85: Niclas | C85: Adilsvägen 9 | D85: 18254 | E85: Djursholm | F85: Familj
A86: Holmqvist | B86: Lars | F86: Familj | G86: larsholmqv@gmail.com | H86: Eva
A87: Holmstedt-Englund | B87: Pia | C87: Grimvägen 5 | D87: 18268 | E87: Djursholm | G87: pia.holmeng@gmail.com
A88: Holst-Åberg | B88: Joanna | G88: joanna.h.aberg@gmail.com
A89: Hornberger | B89: Johanna | G89: Johanna.hornberger@gmail.com
A90: Hultman | B90: Barbro | C90: Slottsbacken 2 | D90: 11130 | E90: Stockholm | G90: barbro.ch.hultman@gmail.com
A91: Husberg | B91: Karsten | C91: Fafnerstogen 6 | D91: 18266 | E91: Djursholm | F91: Familj | G91: karstenhusberg@gmail.com | H91: Åsa
A92: Jacobsson | B92: Eva | C92: Eketorpsvägen 12 | D92: 18261 | E92: Djursholm | G92: eva.jacobsson@telia.com
A93: Jansson Stiernblad | B93: Richard | C93: Norevägen 59 | D93: 18264 | E93: Djursholm | G93: richardmojansson@gmail.com
A94: Johansson | B94: Herman | C94: Auravägen 31A | D94: 18268 | E94: Djursholm
A95: Johansson | B95: Lennart | C95: Yrsavägen 3 | D95: 18255 | E95: Djursholm | F95: Familj
A96: Jufors | B96: Madeleine | C96: Danderydsv 69A | D96: 18262 | E96: Djursholm
A97: Juhlin | B97: Stefan | C97: Vendevägen 57 | D97: 18266 | E97: Djursholm | F97: Familj | H97: Annika, Rasmus
A98: Keussen | B98: Lennart | C98: Mörbydalen 10 | D98: 18252 | E98: Danderyd | G98: lennart.keussen@gmail.com
A99: Kihlström Burenstam Linder | B99: Lars | C99: Bragevägen 18 | D99: 18264 | E99: Djursholm | F99: Familj | G99: lars.busenstam.linder@gmail.com | H99: Mariana
A100: Knafve | B100: Peter | C100: Valevägen 25 | D100: 18264 | E100: Djursholm | G100: peter.knafve@telia.com
...
