Workbook

Sheet RR BR 2025
A1: Ösbybadets vänner 2025 | D1: Ösbybadets vänner 2024
A3: Balansräkning | D3: Balansräkning
A4: TILLGÅNGAR | D4: TILLGÅNGAR
A5: Bankkonto | B5: 37596 | D5: Bankkonto | E5: 38308.4
A7: SKULDER O EGET KAPITAL | D7: SKULDER O EGET KAPITAL
A8: Skulder | B8: 0 | D8: Skulder | E8: 0
A9: Eget kapital | B9: =B5 -> 37596 | D9: Eget kapital | E9: =E5 -> 38308.4
A16: Resultaträkning | D16: Resultaträkning
A17: INTÄKTER | D17: INTÄKTER
A18: Medlemsavgifter | B18: 5750 | D18: Medlemsavgifter | E18: 6075
D19: Gåvor | E19: 8540
A20: KOSTNADER
A21: Bankavgifter | B21: 2104 | D21: KOSTNADER
A22: Omkostnader | B22: 4358 | D22: Bankavgifter | E22: 2082
D23: Omkostnader | E23: 4994
A24: ÅRETS RESULTAT | B24: =B18-B21-B22 -> -712
D25: ÅRETS RESULTAT | E25: =E18+E19-E22-E23 -> 7539

Sheet Kto balans 2025-12-31
A1: ÖBV 2025
A4: IB 2025-01-01 | B4: 38308.4
A5: Medl avgifter | B5: =14*100+29*150 -> 5750
A6: Bank avg | B6: -2104
A7: Omkostnader | B7: ='PLUSGIROKONTO 2025'!B51 -> -4358
A8: UB 2025-12-31 | B8: =SUM(B4:B7) -> 37596.4
A12: Antal medl avg à 100 kr | B12: 14 | C12: =B12 -> 14 | D12: st
A13: Antal medl avg à 150 kr (2,5p) | B13: 29 | C13: =B13*2.5 -> 72.5 | D13: st
C14: =SUM(C12:C13) -> 86.5 | D14: st
A16: Kontoutdrag 2025-12-31

Sheet PLUSGIROKONTO 2025
A1: Bokföringsdag | B1: Belopp | C1: Namn | D1: Rubrik
A2: 45658 | B2: -8 | C2: Swish pris trans. | D2: 1230313866
A3: 45658 | B3: -720 | C3: Swish årspris | D3: 524808 | H3: Antal 100:- | I3: =COUNTIF(B:B,100) -> 14
A4: 45662 | B4: 100 | C4: Inbetalning Swish Företag | D4: STRIDSBERG, CECILIA | H4: Antal 150:- | I4: =COUNTIF(B:B,150) -> 29
A5: 45664 | B5: -1300 | C5: AVGIFTER NORDEA
A6: 45676 | B6: 150 | C6: Inbetalning Swish Företag | D6: Fredrik Söderman
A7: 45689 | B7: -4 | C7: Swish pris trans. | D7: 1230313866
A8: 45777 | B8: 150 | C8: Inbetalning Swish Företag | D8: ENSTAM, DAPHNE
A9: 45778 | B9: -2 | C9: Swish pris trans. | D9: 1230313866
A10: 45783 | B10: 150 | C10: Inbetalning Swish Företag | D10: Anders Christer Malm
A11: 45809 | B11: 150 | C11: Inbetalning Swish Företag | D11: Magnus Gustafsson
A12: 45809 | B12: -2 | C12: Swish pris trans. | D12: 1230313866
A13: 45814 | B13: 150 | C13: Inbetalning Swish Företag | D13: AXLING, BRITT-MARIE
A14: 45814 | B14: 100 | C14: Inbetalning Swish Företag | D14: MÅRTENSSON CECILIA
A15: 45814 | B15: 150 | C15: Inbetalning Swish Företag | D15: Jörgen Ellgren
A16: 45814 | B16: 150 | C16: Inbetalning Swish Företag | D16: HOLMSTEDT ENGLUND, K
A17: 45814 | B17: 100 | C17: Inbetalning Swish Företag | D17: Karin Nordvaller
A18: 45814 | B18: 100 | C18: Inbetalning Swish Företag | D18: LARS HOLMQVIST
A19: 45814 | B19: 150 | C19: Inbetalning Swish Företag | D19: WEHLÈN,BJÖRN
A20: 45814 | B20: 150 | C20: Inbetalning Swish Företag | D20: Anne Bontin Lundgren
A21: 45814 | B21: 100 | C21: Inbetalning Swish Företag | D21: Joachim Gahm
A22: 45814 | B22: 150 | C22: Inbetalning Swish Företag | D22: FRIIS GUNILLA
A23: 45814 | B23: 150 | C23: Inbetalning Swish Företag | D23: Jan Christer Egnefor
A24: 45814 | B24: 150 | C24: Inbetalning Swish Företag | D24: EVERUM, OSSIE
... A37: 45817 | B37: 150 | C37: Inbetalning Swish Företag | D37: ERIK EDMAN
A38: 45817 | B38: 150 | C38: Inbetalning Swish Företag | D38: ULFF, CHRISTER | E38: Christer, Suzanne, Emelie, Carolina, Fredrika
A39: 45817 | B39: 100 | C39: Inbetalning Swish Företag | D39: SÖDERBERGH, RICHARD
A40: 45818 | B40: 100 | C40: Inbetalning Swish Företag | D40: JUFORS, MADELEINE
A41: 45818 | B41: 150 | C41: Bankgiroinsättning 5357-5205 | D41: ERIC OCH INGRID GIERTZ, ERICGIERTZ@GMAIL.COM, INGRIDGIERTZ@GMAIL.COM
A42: 45819 | B42: 150 | C42: Bankgiroinsättning 5357-5205 | D42: Lovering - johnlovering54@gmail.com
A43: 45820 | B43: 150 | C43: Inbetalning Swish Företag | D43: Anna Sahlin Engsner
A44: 45822 | B44: 100 | C44: Inbetalning Swish Företag | D44: DAVID IGRA
A45: 45827 | B45: 150 | C45: Inbetalning Swish Företag | D45: SCHERWIN,SANNA LINN
A46: 45836 | B46: 150 | C46: Inbetalning Swish Företag | D46: SOLVEIG BRUNNER | E46: Solveig Brunner, Catherine o Noah. | F46: solveigbrunner@outlook.com
A47: 45839 | B47: -66 | C47: Swish pris trans.
A48: 45841 | B48: 150 | C48: Inbetalning Swish Företag | D48: Peter Knafve
A49: 45870 | B49: -2 | C49: Swish pris trans.
A50: 45971 | B50: 100 | C50: Bankgiroinsättning 5357-5205 | D50: JOHAN OTTERBECK, JOHAN.OTTERBECK.JO@GMAIL.COM
A51: 45999 | B51: -4358 | C51: Lars Avellan SEB 2 | D51: ÖBV UTGIFTER | E51: Utlägg Lars A 2025
A52: 46016 | B52: 150 | C52: Inbetalning Swish Företag | D52: Christian Ljungdahl
...

Sheet RR BR 2024
A1: Ösbybadets vänner 2024
A3: Balansräkning
A4: TILLGÅNGAR
A5: Bankkonto | B5: 38308.4
A7: SKULDER O EGET KAPITAL
A8: Skulder | B8: 0
A9: Eget kapital | B9: =B5 -> 38308.4
A16: Resultaträkning
A17: INTÄKTER
A18: Medlemsavgifter | B18: 6075
A19: Gåvor | B19: 8540
A21: KOSTNADER
A22: Bankavgifter | B22: 2082
A23: Omkostnader | B23: 4994
A25: ÅRETS RESULTAT | B25: =B18+B19-B22-B23 -> 7539

Sheet Kto balans 2024-12-31 
A3: ÖBV 2024 | H3: Summering av kontohändelserna, underlag till RR här till höger
H4: Row Labels | I4: Sum of Belopp
H5: PRIS ENL SPEC | I5: -1300 | J5: -1300
A6: IB 2024-01-01 | B6: 30769.4 | H6: SWISH AVGIFT | I6: -782 | J6: -782
A7: Medl avgifter | B7: =J9+J7+50 -> 6075 | H7: Medlemsavgift Swish | I7: 5135 | J7: 5135
A8: Gåvor Ekebyskolan | B8: 8540 | H8: Lars utgifter 2024 | I8: -4994 | J8: -4994
A9: Bank avg | B9: =J5+J6 -> -2082 | H9: Medlemsavgift BG | I9: 840 | J9: 890
A10: Omkostnader | B10: =J8 -> -4994 | H10: Gåva Swish | I10: 8540 | J10: 8540
A11: UB 2024-12-31 | B11: =SUM(B6:B10) -> 38308.4 | H11: Grand Total | I11: 7439
A15: Antal medl avg à 100 kr | B15: =COUNTIF('PLUSGIROKONTO 2024'!B:B,100) -> 31 | C15: =B15 -> 31 | D15: st
A16: Antal medl avg à 150 kr (2,5p) | B16: =COUNTIF('PLUSGIROKONTO 2024'!B:B,150) -> 30 | C16: =B16*2.5 -> 75 | D16: st
C17: =SUM(C15:C16) -> 106 | D17: st
A19: Kontoutdrag 2024-12-31

Sheet PLUSGIROKONTO 2024
A1: Bokföringsdag | B1: Belopp | C1: Namn | D1: Rubrik | E1: Meddelande | F1: Egna anteckningar | G1: Epost angiven på inbetalning | H1: Medlemsräkning
A2: 45656 | B2: 150 | C2: SWISH INBETAL | D2: Medlemsavgift Swish | E2: Mimmi Wetterholm | H2: 2
A3: 45653 | B3: 100 | C3: SWISH INBETAL | D3: Medlemsavgift Swish | E3: MIROSLAV KOBETSKI | H3: 1
A4: 45646 | B4: -4994 | D4: Lars utgifter 2024 | E4: Lars utgifter 2024
A5: 45635 | B5: 150 | C5: SWISH INBETAL | D5: Medlemsavgift Swish | E5: SOLVEIG BRUNNER | H5: 2
A6: 45632 | B6: 150 | C6: SWISH INBETAL | D6: Medlemsavgift Swish | E6: LYDIA HYLTÉN-CAVALLI | H6: 2
A7: 45628 | B7: -4 | D7: SWISH AVGIFT | E7: 1230313866
A8: 45607 | B8: 100 | C8: SWISH INBETAL | D8: Medlemsavgift Swish | E8: Fredrik Sjöström | H8: 1
A9: 45607 | B9: 100 | C9: SWISH INBETAL | D9: Medlemsavgift Swish | E9: EKSTRÖM,CONSTANZE | H9: 1
A10: 45566 | B10: -4 | D10: SWISH AVGIFT | E10: 1230313866
A11: 45562 | B11: 150 | C11: SWISH INBETAL | D11: Medlemsavgift Swish | E11: Martin Ritzén | H11: 2
A12: 45538 | B12: 100 | C12: SWISH INBETAL | D12: Medlemsavgift Swish | E12: WALDENSTRÖM, CHRISTI | H12: 1
A13: 45537 | B13: -52 | D13: SWISH AVGIFT | E13: 1230313866
A14: 45532 | B14: 100 | C14: SWISH INBETAL | D14: Medlemsavgift Swish | E14: BANÉR, ANNE | H14: 1
A15: 45530 | B15: 100 | C15: SWISH INBETAL | D15: Medlemsavgift Swish | E15: Eva Jacobsson | H15: 1
A16: 45527 | B16: 150 | D16: Medlemsavgift BG | E16: OTTERBECK, EVA & JOHAN | H16: 2
A17: 45527 | B17: 150 | C17: SWISH INBETAL | D17: Medlemsavgift Swish | E17: BJÖRNSSON, BJÖRN | H17: 2
A18: 45526 | B18: 100 | C18: SWISH INBETAL | D18: Medlemsavgift Swish | E18: MÅRTENSSON CECILIA | H18: 1
A19: 45526 | B19: 100 | C19: SWISH INBETAL | D19: Medlemsavgift Swish | E19: ARVAS, CHRISTER | H19: 1
A20: 45525 | B20: 150 | C20: SWISH INBETAL | D20: Medlemsavgift Swish | E20: Anna Sahlin Engsner | H20: 2
A21: 45525 | B21: 150 | C21: SWISH INBETAL | D21: Medlemsavgift Swish | E21: BJÖRNSTJERNA, MARTIN | H21: 2
A22: 45525 | B22: 150 | C22: SWISH INBETAL | D22: Medlemsavgift Swish | E22: Ulla Elisabeth Lundi | H22: 2
A23: 45525 | B23: 150 | D23: Medlemsavgift BG | E23: GIERTZ ERIC & INGRID | F23: ERICGIERTZ@GMAIL.COM | H23: 2
A24: 45525 | B24: 150 | D24: Medlemsavgift BG | E24: CHRISTER, SUZANNE, EMELIE, CAROLINA, FREDRIKA ULFF | H24: 5
A25: 45524 | B25: 100 | C25: SWISH INBETAL | D25: Medlemsavgift Swish | E25: WAERN, OLOF | H25: 1
A26: 45524 | B26: 100 | C26: SWISH INBETAL | D26: Medlemsavgift Swish | E26: Christian Lépée | H26: 1
A27: 45524 | B27: 100 | C27: SWISH INBETAL | D27: Medlemsavgift Swish | E27: Kerstin Hansdotter K | H27: 1
A28: 45524 | B28: 100 | C28: SWISH INBETAL | D28: Medlemsavgift Swish | E28: JUFORS, MADELEINE | H28: 1
A29: 45524 | B29: 100 | C29: SWISH INBETAL | D29: Medlemsavgift Swish | E29: Jonas Falck | H29: 1
A30: 45524 | B30: 100 | C30: SWISH INBETAL | D30: Medlemsavgift Swish | E30: Eva Busch | H30: 1
A31: 45524 | B31: 100 | C31: SWISH INBETAL | D31: Medlemsavgift Swish | E31: Carl Erik Eriksson | H31: 1
A32: 45524 | B32: 150 | C32: SWISH INBETAL | D32: Medlemsavgift Swish | E32: ERIK EDMAN | H32: 4
A33: 45524 | B33: 150 | C33: SWISH INBETAL | D33: Medlemsavgift Swish | E33: Jan Christer Egnefor | H33: 2
A34: 45524 | B34: 150 | C34: SWISH INBETAL | D34: Medlemsavgift Swish | E34: Peter Knafve | H34: 2
A35: 45524 | B35: 150 | D35: Medlemsavgift BG | E35: EVERUM OSSIE | F35: OSSIE.EVERUM@GMAIL.COM | H35: 4
A36: 45524 | B36: 100 | D36: Medlemsavgift BG | E36: FRIIS GUNILLA | H36: 1
A37: 45524 | B37: 100 | D37: Medlemsavgift BG | E37: LOVERING JOHN | F37: JOHNLOVERING54@GMAIL.COM
A38: 45523 | B38: 100 | C38: SWISH INBETAL | D38: Medlemsavgift Swish | E38: LARS HOLMQVIST | H38: 1
A39: 45523 | B39: 150 | C39: SWISH INBETAL | D39: Medlemsavgift Swish | E39: CECILIA WEHLÉN | H39: 2
A40: 45523 | B40: 150 | C40: SWISH INBETAL | D40: Medlemsavgift Swish | E40: HANNA LILLIESKÖLD RI | H40: 2
...

Sheet RR BR 2023
A1: Ösbybadets vänner 2023
A3: Balansräkning
A4: TILLGÅNGAR
A5: Bankkonto | B5: 30769.4
A7: SKULDER O EGET KAPITAL
A8: Skulder | B8: 0
A9: Eget kapital | B9: 30769.4
A16: Resultaträkning
A17: INTÄKTER
A18: Medlemsavgifter | B18: 7450
A20: KOSTNADER
A21: Bank avgifter | B21: 1996
A22: Omkostnader | B22: 3419
A24: ÅRETS RESULTAT | B24: =B18-B21-B22 -> 2035

Sheet Kto balans 2023-12-31
A3: ÖBV 2023 | I3: Summering av kontohändelserna, underlag till RR här till höger
I4: Row Labels | J4: Sum of Belopp
I5: BG INSÄTTNING 1 | J5: 1100 | K5: 1100
A6: IB 2023-01-01 | B6: 28734.4 | I6: Inbetalning Swish Företag | J6: 6350 | K6: 6350
A7: Medl avgifter | B7: =K5+K6 -> 7450 | I7: ÖBV UTLÄGG23 | J7: -3419 | K7: -3419
A8: Bank avg | B8: =K9+K8 -> -1996 | I8: PRIS ENL SPEC | J8: -1300 | K8: -1300
A9: Omkostnader | B9: =K7 -> -3419 | I9: SWISH AVGIFT | J9: -696 | K9: -696
A10: UB 2032-12-31 | B10: =SUM(B6:B9) -> 30769.4 | I10: Grand Total | J10: 2035 | K10: 0
A14: Antal medl avg à 100 kr | B14: =COUNTIF('PLUSGIROKONTO 2023'!B:B,100) -> 22 | C14: =B14 -> 22 | D14: st
A15: Antal medl avg à 150 kr (2,5p) | B15: =COUNTIF('PLUSGIROKONTO 2023'!B:B,150) -> 35 | C15: =B15*2.5 -> 87.5 | D15: st
C16: =SUM(C14:C15) -> 109.5 | D16: st
A24: Kontoutdrag 2023-12-31

Sheet PLUSGIROKONTO 2023
A1: Bokföringsdag | B1: Belopp | C1: Namn | D1: Rubrik | E1: Meddelande | F1: Egna anteckningar | G1: Epost angiven på inbetalning | H1: Medlemsräkning
A2: 45275 | B2: -3419 | C2: Lars SEB utlägg | D2: ÖBV UTLÄGG23 | E2: ÖBV UTLÄGG23
A3: 45201 | B3: -4 | C3: SWISH AVGIFT | D3: SWISH AVGIFT | E3: SWISH AVGIFT
A4: 45194 | B4: 100 | C4: SWISH INBETAL | D4: Inbetalning Swish Företag | E4: Anna Grindberg | H4: 1
A5: 45194 | B5: 150 | C5: SWISH INBETAL | D5: Inbetalning Swish Företag | E5: Åsa Dahlenborg | H5: 2
A6: 45170 | B6: -2 | C6: SWISH AVGIFT | D6: SWISH AVGIFT | E6: SWISH AVGIFT
A7: 45149 | B7: 150 | C7: SWISH INBETAL | D7: Inbetalning Swish Företag | E7: Emma Christine Lilli | H7: 2
A8: 45139 | B8: -2 | C8: SWISH AVGIFT | D8: SWISH AVGIFT | E8: SWISH AVGIFT
A9: 45121 | B9: 150 | C9: SWISH INBETAL | D9: Inbetalning Swish Företag | E9: HOAS, CHRISTIAN | H9: 2
A10: 45110 | B10: -78 | C10: SWISH AVGIFT | D10: SWISH AVGIFT | E10: SWISH AVGIFT
A11: 45107 | B11: 150 | C11: BG INSÄTTNING 1 | D11: BG INSÄTTNING 1 | E11: Patricia och Björn Wehlen | G11: rehttb@gmail.com | H11: 2
A12: 45106 | B12: 100 | C12: BG INSÄTTNING 1 | D12: BG INSÄTTNING 1 | E12: KerstinHansdotter Küntzel | F12: Vendevägen 5 C lgh 1101, 182 69 Djursholm | H12: 1
A13: 45103 | B13: 100 | C13: BG INSÄTTNING 1 | D13: BG INSÄTTNING 1 | E13: Gunilla Wiking-Johnsson | F13: Ellahagsvägen 1 A, 187 32 Täby | H13: 1
A14: 45099 | B14: 100 | C14: SWISH INBETAL | D14: Inbetalning Swish Företag | E14: PONTELL HAGKLINT, MO | H14: 1
A15: 45098 | B15: 150 | C15: SWISH INBETAL | D15: Inbetalning Swish Företag | E15: SOLVEIG BRUNNER | H15: =VLOOKUP(E15,'PLUSGIROKONTO 2022'!E:H,4,FALSE) -> 2
A16: 45097 | B16: 150 | C16: SWISH INBETAL | D16: Inbetalning Swish Företag | E16: KARSTEN HUSBERG | H16: =VLOOKUP(E16,'PLUSGIROKONTO 2022'!E:H,4,FALSE) -> 2
A17: 45096 | B17: 100 | C17: BG INSÄTTNING 1 | D17: BG INSÄTTNING 1 | E17: SÖDERBERGH RICHARD | F17: , MÖRBYLUND 25 LGH 1605, 182 30 DANDERYD | G17: ricki07@hotmail.com | H17: 1
A18: 45096 | B18: 150 | C18: SWISH INBETAL | D18: Inbetalning Swish Företag | E18: OTTERBECK, JOHAN | H18: 2
A19: 45086 | B19: 100 | C19: SWISH INBETAL | D19: Inbetalning Swish Företag | E19: Louise Epstein | H19: =VLOOKUP(E19,'PLUSGIROKONTO 2022'!E:H,4,FALSE) -> 2
A20: 45085 | B20: 100 | C20: SWISH INBETAL | D20: Inbetalning Swish Företag | E20: Eva Jacobsson | H20: =VLOOKUP(E20,'PLUSGIROKONTO 2022'!E:H,4,FALSE) -> 1
A21: 45085 | B21: 100 | C21: SWISH INBETAL | D21: Inbetalning Swish Företag | E21: HOLST ÅBERG, JOANNA | H21: =VLOOKUP(E21,'PLUSGIROKONTO 2022'!E:H,4,FALSE) -> 1
A22: 45084 | B22: 150 | C22: SWISH INBETAL | D22: Inbetalning Swish Företag | E22: FRIIS GUNILLA | H22: =VLOOKUP(E22,'PLUSGIROKONTO 2022'!E:H,4,FALSE) -> 1
A23: 45084 | B23: 150 | C23: SWISH INBETAL | D23: Inbetalning Swish Företag | E23: FRIIS GUNILLA | H23: =VLOOKUP(E23,'PLUSGIROKONTO 2022'!E:H,4,FALSE) -> 1
A24: 45084 | B24: 150 | C24: BG INSÄTTNING 1 | D24: BG INSÄTTNING 1 | E24: Familjen Ulff | F24: BECKHOLMSVÄGEN 5, 115 21 STOCKHOLM | H24: 3
A25: 45084 | B25: 150 | C25: BG INSÄTTNING 1 | D25: BG INSÄTTNING 1 | E25: Kristina och Christer Arvas | F25: VENDEVÄGEN 8 LGH 1102, 182 69 DJURSHOLM | G25: CHRISTER.ARVAS@GMAIL.COM | H25: 2
A26: 45084 | B26: 150 | C26: BG INSÄTTNING 1 | D26: BG INSÄTTNING 1 | E26: Anne Bontin Lundgren och Göran Lundgren | F26: Fafnerstigen 3, 182 66 Djursholm | H26: 2
A27: 45082 | B27: 100 | C27: SWISH INBETAL | D27: Inbetalning Swish Företag | E27: WALDENSTRÖM, CHRISTI | H27: =VLOOKUP(E27,'PLUSGIROKONTO 2022'!E:H,4,FALSE) -> 1
A28: 45082 | B28: 100 | C28: SWISH INBETAL | D28: Inbetalning Swish Företag | E28: Marie Alrutz | H28: =VLOOKUP(E28,'PLUSGIROKONTO 2022'!E:H,4,FALSE) -> 1
A29: 45082 | B29: 100 | C29: SWISH INBETAL | D29: Inbetalning Swish Företag | E29: Per Mikael Eriksson | H29: 1
A30: 45082 | B30: 100 | C30: SWISH INBETAL | D30: Inbetalning Swish Företag | E30: TINGSTRÖM, RAGNAR | H30: =VLOOKUP(E30,'PLUSGIROKONTO 2022'!E:H,4,FALSE) -> 1
A31: 45082 | B31: 100 | C31: SWISH INBETAL | D31: Inbetalning Swish Företag | E31: ANKARCRONA, MI | H31: =VLOOKUP(E31,'PLUSGIROKONTO 2022'!E:H,4,FALSE) -> 1
A32: 45082 | B32: 100 | C32: SWISH INBETAL | D32: Inbetalning Swish Företag | E32: Peter Knafve | H32: =VLOOKUP(E32,'PLUSGIROKONTO 2022'!E:H,4,FALSE) -> 1
A33: 45082 | B33: 100 | C33: SWISH INBETAL | D33: Inbetalning Swish Företag | E33: LENZ, JÖRGEN | H33: =VLOOKUP(E33,'PLUSGIROKONTO 2022'!E:H,4,FALSE) -> 2
A34: 45082 | B34: 100 | C34: SWISH INBETAL | D34: Inbetalning Swish Företag | E34: Jonas Falck | H34: =VLOOKUP(E34,'PLUSGIROKONTO 2022'!E:H,4,FALSE) -> 1
A35: 45082 | B35: 100 | C35: SWISH INBETAL | D35: Inbetalning Swish Företag | E35: Birgitta de Verdier | H35: =VLOOKUP(E35,'PLUSGIROKONTO 2022'!E:H,4,FALSE) -> 1
A36: 45082 | B36: 100 | C36: SWISH INBETAL | D36: Inbetalning Swish Företag | E36: Carl Erik Eriksson | H36: =VLOOKUP(E36,'PLUSGIROKONTO 2022'!E:H,4,FALSE) -> 2
A37: 45082 | B37: 100 | C37: SWISH INBETAL | D37: Inbetalning Swish Företag | E37: Annika Friberg | H37: =VLOOKUP(E37,'PLUSGIROKONTO 2022'!E:H,4,FALSE) -> 1
A38: 45082 | B38: 150 | C38: SWISH INBETAL | D38: Inbetalning Swish Företag | E38: Annette Alaeus | H38: 2
A39: 45082 | B39: 150 | C39: SWISH INBETAL | D39: Inbetalning Swish Företag | E39: AXLING, BRITT-MARIE | H39: =VLOOKUP(E39,'PLUSGIROKONTO 2022'!E:H,4,FALSE) -> 2
A40: 45082 | B40: 150 | C40: SWISH INBETAL | D40: Inbetalning Swish Företag | E40: BJÖRNSTJERNA, MARTIN | H40: 2
...

Sheet PLUSGIROKONTO 2022
A1: Bokföringsdag | B1: Belopp | C1: Namn | D1: Rubrik | E1: Meddelande | F1: Egna anteckningar | G1: Epost angiven på inbetalning | H1: Medlemsräkning
A2: 44915 | B2: -593 | C2: Skandinaviska Enskilda Ba | D2: Lars SEB utlägg | E2: ÖBV UTLÄGG | F2: Lars utlägg 20221219
A3: 44910 | B3: -7434.4 | C3: Skandinaviska Enskilda Ba | D3: Lars SEB utlägg | E3: UTLÄGG ÖBV22 | F3: Lars utlägg 20221207
A4: 44896 | B4: -4 | C4: SWISH AVGIFT | D4: SWISH AVGIFT | E4: 1230313866
A5: 44893 | B5: 150 | C5: SWISH INBETAL | D5: SWISH INBETAL | E5: WENNERSTRÖM, HELENA | H5: 2 | I5: 076 392 86 22
A6: 44873 | B6: 100 | C6: BG INSÄTTNING 1 | D6: BG INSÄTTNING 1 | E6: 5357-5205 | F6: Herman Johansson | G6: herman.johansson@wester-elsner.se | H6: 1 | J6: Yrsagäven 3, 182 55 Djursholm
A7: 44872 | B7: 150 | C7: SWISH INBETAL | D7: SWISH INBETAL | E7: Frank Harald Murray | G7: frankmurray42@gmail.com | H7: 2
A8: 44866 | B8: -18 | C8: SWISH AVGIFT | D8: SWISH AVGIFT | E8: 1230313866
A9: 44859 | B9: 151 | C9: BG INSÄTTNING 1 | D9: BG INSÄTTNING 1 | E9: 5357-5205 | F9: Stefan, Janna, Gigi, Platon Marko | H9: 4 | J9: Brinken 6, 182 73. Stocksund
A10: 44851 | B10: 150 | C10: SWISH INBETAL | D10: SWISH INBETAL | E10: CECILIA WEHLÉN | F10: Cecilia & L. Wehlén | G10: lars.wehlen@hotmail.com | H10: 2
A11: 44848 | B11: 100 | C11: BG INSÄTTNING 1 | D11: BG INSÄTTNING 1 | E11: 5357-5205 | F11: Ove Svantegård | G11: OWE.SVANTEGARD@GMAIL.COM | H11: 1 | I11: 073-755 41 07 | J11: MÖRBYHÖJDEN 12 LGH 1401, 182 32 Danderyd
A12: 44847 | B12: 150 | C12: BG INSÄTTNING 2 | D12: BG INSÄTTNING 2 | E12: 5357-5205 | F12: Agneta o Calle Flach | G12: agneta.flach@icloud.com | H12: 2 | J12: Ösbyvägen 35, 18254 Djurholm
A13: 44846 | B13: 100 | C13: BG INSÄTTNING 1 | D13: BG INSÄTTNING 1 | E13: 5357-5205 | F13: Kerstin Kuntzel | G13: kerstin.kuentzelattelia.com | H13: 1 | J13: Vendevägen 5 C lgh 1101, 182 69 Djursholm
A14: 44845 | B14: 150 | C14: SWISH INBETAL | D14: SWISH INBETAL | E14: Mikael Adriansson | F14: Fam. Mikael Adriansson | G14: Micke.adriansson@gmail.com | H14: 3 | I14: 070 940 98 02
A15: 44845 | B15: 150 | C15: SWISH INBETAL | D15: SWISH INBETAL | E15: LUNDGREN, KARIN | F15: Karin och Kenn Lundgren | G15: karinmlundgren@outlook.com | H15: 2 | I15: 070 290 41 87
A16: 44844 | B16: 150 | C16: BG INSÄTTNING 1 | D16: BG INSÄTTNING 1 | E16: 5357-5205 | F16: Jan och Mia Egnefors | G16: janchrister.egnefors@hotmail.com | H16: 2 | J16: Kårevägen 16, 182 66 Djursholm
A17: 44844 | B17: 150 | C17: SWISH INBETAL | D17: SWISH INBETAL | E17: WOHLFAHRT, GUSTAV | F17: Fam Gustav Wohlfahrt | H17: 2 | I17: 070 995 59 55
A18: 44844 | B18: 150 | C18: SWISH INBETAL | D18: SWISH INBETAL | E18: Urban Wrethagen | G18: wrethagenurban@gmail.com | H18: 2 | I18: 073 587 05 12
A19: 44841 | B19: 100 | C19: SWISH INBETAL | D19: SWISH INBETAL | E19: DILLNER, PER | F19: Per Dillner | G19: pdillner@icloud.com | H19: 1 | I19: 070 433 33 47
A20: 44841 | B20: 150 | C20: SWISH INBETAL | D20: SWISH INBETAL | E20: JUFORS, MADELEINE | G20: madeleinejufors@hotmail.com | H20: 2 | I20: 070 621 40 40
A21: 44839 | B21: 150 | C21: BG INSÄTTNING 1 | D21: BG INSÄTTNING 1 | E21: 5357-5205 | F21: Annette och Gunnar Alaeus | G21: annette.alaeus@gmail.com | H21: 2 | J21: Kolgavägen 5 A, 182 65 Djursholm
A22: 44838 | B22: 150 | C22: SWISH INBETAL | D22: SWISH INBETAL | E22: Elisabeth Armfelt | F22: Elisabeth Armfelt, Richard Mojansson | G22: richardmojansson@gmail.com, elisabeth.armfelt@live.se | H22: 2 | I22: 076 775 59 96
A23: 44837 | B23: -30 | C23: SWISH AVGIFT | D23: SWISH AVGIFT | E23: 1230313866
A24: 44837 | B24: 150 | C24: SWISH INBETAL | D24: SWISH INBETAL | E24: TORBERGER, JAN | F24: Jan o Lena Torberger | H24: 2 | I24: 073 267 10 73
A25: 44834 | B25: 100 | C25: SWISH INBETAL | D25: SWISH INBETAL | E25: WALDENSTRÖM, CHRISTI | F25: Christina Waldenström | G25: lapleg@telia.com | H25: 1 | I25: 073 939 78 57
A26: 44834 | B26: 150 | C26: SWISH INBETAL | D26: SWISH INBETAL | E26: SCHERWIN,SANNA LINN | F26: Sanna Scherwin | G26: sannahj@hotmail.com | H26: 2 | I26: 076 127 20 68
A27: 44833 | B27: 100 | C27: SWISH INBETAL | D27: SWISH INBETAL | E27: Eva Busch | G27: buscheva@hotmail.com | H27: 1 | I27: 070 843 24 35
A28: 44833 | B28: 100 | C28: SWISH INBETAL | D28: SWISH INBETAL | E28: FRIIS GUNILLA | F28: Anna Larsen | H28: 1
A29: 44833 | B29: 100 | C29: SWISH INBETAL | D29: SWISH INBETAL | E29: Henrik Pompeius | F29: Henrik Pompeius | G29: henrik@pompeius.se | H29: 1 | I29: 073 981 71 90
A30: 44833 | B30: 100 | C30: SWISH INBETAL | D30: SWISH INBETAL | E30: Annika Friberg | G30: annika0303@hotmail.com | H30: 1 | I30: 070 966 37 55
A31: 44833 | B31: 150 | C31: SWISH INBETAL | D31: SWISH INBETAL | E31: EVERUM, OSSIE | F31: Fam Everum | G31: Ossie.everum@gmail.com | H31: 3 | I31: 070 590 88 50
A32: 44833 | B32: 150 | C32: SWISH INBETAL | D32: SWISH INBETAL | E32: BJÖRNSTJERNA, MARTINA | F32: Björnstjerna | H32: 2 | I32: 070 723 00 94
A33: 44832 | B33: 100 | C33: SWISH INBETAL | D33: SWISH INBETAL | E33: Jonas Falck | F33: Jonas Falck | G33: jonas@photo300.com | H33: 1 | I33: 070 890 70 09
A34: 44832 | B34: 100 | C34: SWISH INBETAL | D34: SWISH INBETAL | E34: MÅRTENSSON CECILIA | F34: Cecilia Mårtensson | G34: ciamartensson@hotmail.com | H34: 1 | I34: 070 860 12 34
A35: 44832 | B35: 100 | C35: SWISH INBETAL | D35: SWISH INBETAL | E35: SCHRÖDER, LISEN | F35: Lisen Schröder | G35: lisen.schroder@gmail.com | H35: 1 | I35: 070 712 25 95
A36: 44832 | B36: 100 | C36: SWISH INBETAL | D36: SWISH INBETAL | E36: Susanne Andréason | G36: susanne.gidefeldt@gmail.com | H36: 1 | I36: 073 261 86 62
A37: 44832 | B37: 150 | C37: SWISH INBETAL | D37: SWISH INBETAL | E37: HOLMSTEDT ENGLUND, K | F37: Pia o Fredrik Englund | H37: 2 | I37: 070 825 59 60
A38: 44832 | B38: 150 | C38: SWISH INBETAL | D38: SWISH INBETAL | E38: AXLING, BRITT-MARIE | F38: Axlings | H38: 2 | I38: 070 023 11 10
A39: 44832 | B39: 150 | C39: SWISH INBETAL | D39: SWISH INBETAL | E39: Anne Lundgren | F39: Anne och Göran Lundgren | G39: anne.bontin.lundgren@telia.com | H39: 2 | I39: 070 631 52 02
A40: 44774 | B40: -2 | C40: SWISH AVGIFT | D40: SWISH AVGIFT | E40: 1230313866
...

Sheet Medlemsregister 2022
A4: Förnamn | B4: Efternamn | C4: Gatuadress | D4: Post nr | E4: Postort | F4: epost | G4: Familj | H4: Familjemedlemmar | I4: Ytterligare mailadresser | J4: Medlemsräkning | K4: Telefonnr | L4: Inbet belopp
A5: Mikael | B5: Adriansson | C5: Västerviksv 1F | D5: 18235 | E5: Danderyd | F5: Micke.adriansson@gmail.com | G5: Familj | J5: 2 | K5: 070 940 98 02 | L5: 150
A6: Gunnar | B6: Alaeus | C6: Kolgavägen 1A | D6: 18265 | E6: djursholm | F6: annette.alaeus@gmail.com | G6: Familj | H6: Annette | J6: 2 | L6: 150
A7: Marie | B7: Alrutz | F7: marie@alrutz.nu | G7: Enskild | J7: 1 | L7: 100
A8: Susanne | B8: Andreason-Gidefeldt | C8: Villavägen 35A | D8: 18279 | E8: Stocksund | F8: susanne.gidefeldt@gmail.com | G8: Enskild | J8: 1 | K8: 073 261 86 62 | L8: 100
A9: Märtha | B9: Angert Lilliestråle | C9: Vendevägen 13 | D9: 18269 | E9: Djursholm | F9: martha.a.lilliestrale@gmail.com | G9: Familj | J9: 2 | L9: 150 | M9: Utträde pga politiskt engagemang
A10: Mi | B10: Ankarcrona | C10: Fritiofsvägen 5 | D10: 18254 | E10: Djursholm | F10: mi.ankarcrona@gmail.com | G10: Enskild | J10: 1 | L10: 100
A11: Elisabeth | B11: Armfelt | C11: Norevägen 59 | D11: 18254 | E11: Djursholm | F11: elisabeth.armfelt@gmail.com | G11: Familj | H11: Richard Mojansson | I11: richardmojansson@gmail.com | J11: 2 | K11: 076 775 59 96 | L11: 150
A12: Kristina | B12: Arvas | F12: christer.arvas@gmail.com | G12: Familj | H12: Christer | J12: 2 | L12: 150
A13: Lars | B13: Avellan-Hultman | C13: Österängsv 42A | D13: 18247 | E13: Enebyberg | F13: lars.avellan@telia.com | G13: Familj | H13: Maria | J13: 2 | L13: 150
A14: Britt-Marie | B14: Axling | C14: Njordvägen 4 | D14: 18255 | E14: Djursholm | F14: bitteaxling@hotmail.com | G14: Familj | H14: Olle | I14: oaxling@gmail.com | J14: 2 | K14: 070 023 11 10 | L14: 150
A15: Anne | B15: Banér | C15: Vendestigen 1 | D15: 18266 | E15: Djursholm | F15: annebaner@gmail.com | G15: Enskild | J15: 1 | L15: 100
A16: Henrik | B16: Berggren | C16: Skandiavägen 11 | D16: 18263 | E16: Djursholm | F16: heja.berggren@gmail.com | G16: Enskild | J16: 1
A17: Marie-Louise | B17: Björkman | C17: Sveavägen 18B | D17: 18262 | E17: Djursholm | F17: bjorkman.ml@gmail.com | G17: Enskild | J17: 1 | L17: 100
A18: Björn | B18: Björnsson | C18: Auravägen 2 | D18: 18260 | E18: Djursholm | F18: bjorn@bjornssons.se | G18: Familj | H18: Gunilla | J18: 2 | L18: 150
A19: Martina | B19: Björnstjerna | C19: Eketorpsvägen 1 | D19: 18261 | E19: Djursholm | F19: martinabjornstierna@hotmail.com | G19: Familj | H19: Annika, Hedda, Gustaf, Björn | J19: 5 | K19: 070 723 00 94 | L19: 150
A20: Christina | B20: Bonrud-Arnesen | C20: Kårevägen 18 | D20: 18266 | E20: Djursholm | G20: Familj | H20: Körmendi | J20: 2 | L20: 150
A21: Leif Arne | B21: Bornvik | F21: leif.bornvik@gmail.com | G21: Familj | H21: Viveka | J21: 2 | L21: 150
A22: Solveig | B22: Brunner | F22: solveigbrunner@outlook.com | G22: Familj | J22: 2 | L22: 150
A23: Eva | B23: Busch | C23: Grimvägen 3 | D23: 18268 | E23: Djursholm | F23: buscheva@hotmail.com | G23: Enskild | J23: 1 | K23: 070 843 24 35 | L23: 100
A24: Carin | B24: Craelius Hultin | C24: Rosvägen 1 | D24: 18278 | E24: Stocksund | F24: carin.craelius@gmail.com | G24: Familj | H24: Per | J24: 2 | L24: 150
A25: Birgitta | B25: de Verdier | C25: Mörbyleden 22 | D25: 18232 | E25: Danderyd | F25: birgittadeverdier@gmail.com | G25: Enskild | J25: 1 | L25: 100
A26: Marianne | B26: Dillner | C26: Grevgatan 59A | D26: 11459 | E26: Stockhiolm | G26: Enskild | J26: 1 | L26: 100
A27: Per | B27: Dillner | C27: Stefan Löfvingsv 37 | D27: 18541 | E27: Vaxholm | F27: pdillner@icloud.com | G27: Enskild | J27: 1 | K27: 070 433 33 47 | L27: 100
A28: Eva | B28: Drangel | C28: Pontongränd 19 | D28: 18268 | E28: Täby | F28: evadrangel@gmail.com | G28: Familj | H28: Johan | J28: 2 | L28: 150
A29: Anna | B29: Eckerström-Wachtmeister | C29: Upplandsgatan 1 | D29: 11360 | E29: Stockhiolm | F29: anna.e.wachtmeister@gmail.com | G29: Enskild | J29: 1 | L29: 100
A30: Erik | B30: Edman | C30: Vendevägen 65 | D30: 18266 | E30: Djursholm | F30: erik@edman.eu | G30: Familj | H30: Anna | J30: 2 | L30: 150
A31: Jan-Christer | B31: Egnefors | C31: Kårevägen 16 | D31: 18266 | E31: Djursholm | F31: janchrister.egnefors@hotmail.com | G31: Familj | H31: Mia | J31: 2 | L31: 150
A32: Jörgen | B32: Ellgren | C32: Stallbacken 13 | D32: 18267 | E32: Djursholm | F32: jorgen@ellgren.nu | G32: Familj | J32: 2 | L32: 150
A33: Anders | B33: Engstrand | C33: Jägerbacken 18 | D33: 18239 | E33: Danderyd | F33: anders@engstrandvision.se | G33: Enskild | J33: 1 | L33: 100
A34: Louise | B34: Epstein | C34: Lillkalmarv 27 | D34: 18265 | E34: Djursholm | F34: louise.epstein@sr.se | G34: Familj | H34: Greger | J34: 2 | L34: 150
A35: Carl-Erik | B35: Eriksson | C35: Modevägen 4 | D35: 18261 | E35: Djursholm | F35: carlerikeriksson@mac.com | G35: Familj | J35: 2 | L35: 150
A36: Ossie | B36: Everum | C36: Valevägen 59 | D36: 18264 | E36: Djursholm | F36: ossie.everum@gmail.com | G36: Familj | H36: Gerthy | J36: 2 | K36: 070 590 88 50 | L36: 150
A37: Jonas | B37: Falck | C37: Lindholmens gå | D37: 18694 | E37: Vallentuna | F37: jonas@photo300.com | G37: Enskild | J37: 1 | K37: 070 890 70 09 | L37: 100
A38: Reza | B38: Farhang | C38: Bragevägen 3 | D38: 18264 | E38: Djursholm | F38: rezurt@gmail.com | G38: Familj | H38: Johan, Emil, Lea | J38: 4 | L38: 150
A39: Calle | B39: Flach | C39: Ösbyvägen 35 | D39: 18254 | E39: Djursholm | F39: agneta.flach@icloud.com | G39: Familj | H39: Agneta, Jonas, Eva Lotta, William, Georg, Fredrik, Pauline, Nicki | J39: 9 | L39: 150
A40: Annika | B40: Friberg | C40: Mörbyhöjden 7 | D40: 18232 | E40: Danderyd | F40: annika0303@hotmail.com | G40: Enskild | J40: 1 | K40: 070 966 37 55 | L40: 100
A41: Gunilla | B41: Friis | C41: Norevägen 57 | D41: 18264 | E41: Djursholm | F41: gunilla@friis.se | G41: Familj | H41: Peder | J41: 2 | L41: 150
A42: Joachim | B42: Gahm | C42: Valevägen | D42: 18264 | E42: Djursholm | F42: joachim@gahm.se | G42: Enskild | J42: 1 | L42: 100
A43: Eric | B43: Giertz | C43: Danderydsv 16E | D43: 18266 | E43: Djursholm | F43: ericgiertz@gmail.com | G43: Familj | H43: Ingrid | J43: 2 | L43: 400
...

Sheet mailadresser 22 t 24
A4: Totalt 105 st mailadresser:
A5: marie@alrutz.nu
A6: susanne.gidefeldt@gmail.com
A7: mi.ankarcrona@gmail.com
A8: bjorkman.ml@gmail.com
A9: buscheva@hotmail.com
A10: birgittadeverdier@gmail.com
A11: anders@engstrandvision.se
A12: jonas@photo300.com
A13: annika0303@hotmail.com
A14: joanna.h.aberg@gmail.com
A15: eva.jacobsson@telia.com
... A114: MARIE.BELE@HOTMAIL.COM

Sheet Kto balans 2022-12-31
I2: Row Labels | J2: Sum of Belopp
A3: ÖBV 2022 | I3: BG INSÄTTNING 1 | J3: 2751
I4: BG INSÄTTNING 2 | J4: 150
I5: Skandinaviska Enskilda Ba | J5: -8027.4
A6: IB 2022-01-01 | B6: 25914.8 | I6: SWISH AVGIFT | J6: -754
A7: Medl avgifter | B7: =GETPIVOTDATA("Belopp",$I$2,"Namn","BG INSÄTTNING 1")+GETPIVOTDATA("Belopp",$I$2,"Namn","BG INSÄTTNING 2")+GETPIVOTDATA("Belopp",$I$2,"Namn","SWISH INBETAL") -> 12901 | I7: SWISH INBETAL | J7: 10000
A8: Bank avg | B8: =GETPIVOTDATA("Belopp",$I$2,"Namn","SWISH AVGIFT")+GETPIVOTDATA("Belopp",$I$2,"Namn","PRIS ENL SPEC") -> -2054 | I8: (blank)
A9: Omkostnader | B9: =GETPIVOTDATA("Belopp",$I$2,"Namn","Skandinaviska Enskilda Ba") -> -8027.4 | I9: PRIS ENL SPEC | J9: -1300
A10: UB 2022-12-31 | B10: 28734.4 | I10: Grand Total | J10: 2819.6
A14: Antal medl avg à 100 kr | B14: 42 | C14: =B14 -> 42 | D14: st
A15: Antal medl avg à 150 kr (2,5p) | B15: 58 | C15: =B15*2.5 -> 145 | D15: st
C16: =SUM(C14:C15) -> 187 | D16: st

Sheet RR BR 2022
A1: Ösbybadets vänner 2022
A3: Balansräkning
A4: TILLGÅNGAR
A5: Bankkonto | B5: 28734.4
A7: SKULDER O EGET KAPITAL
A8: Skulder | B8: 0
A9: Eget kapital | B9: 28734.4
A16: Resultaträkning
A17: INTÄKTER
A18: Medlemsavgifter | B18: 12901
A20: KOSTNADER
A21: Bank avgifter | B21: 2054
A22: Omkostnader | B22: 8027.4
A24: ÅRETS RESULTAT | B24: =B18-B21-B22 -> 2819.6

Sheet Medlemsregister 2021
A1: Efternamn | B1: Förnamn | C1: Gatuadress | D1: Postnummer | E1: Postort | F1: Famil? | G1: Mail | H1: Familjemedlemmar | I1: Ytterligare mailadresser
A2: Abramowwicz | B2: Isak | C2: Forsetevägen 14 | D2: 18267 | E2: Djursholm | F2: Familj | G2: isak.abramowicz@gmail.com | H2: Lisa
A3: Adriansson | B3: Mikael | C3: Västerviksv 1F | D3: 18235 | E3: Danderyd | F3: Familj
A4: Alaeus | B4: Gunnar | C4: Kolgavägen 1A | D4: 18265 | E4: djursholm | F4: Familj | G4: annette.alaeus@gmail.com | H4: Annette
A5: Allerman | B5: Ingrid | C5: Östbergavägen 1 | D5: 18262 | E5: Djursholm | F5: Familj | G5: allerman@telia.com
A6: Alrutz | B6: Marie | G6: marie@alrutz.nu
A7: Andreason-Gidefeldt | B7: Susanne | C7: Villavägen 35A | D7: 18279 | E7: Stocksund | G7: susanne.gidefeldt@gmail.com
A8: Angert Lilliestråle | B8: Märtha | C8: Vendevägen 13 | D8: 18269 | E8: Djursholm | G8: martha.a.lilliestrale@gmail.com
A9: Ankarcrona | B9: Mi | C9: Fritiofsvägen 5 | D9: 18254 | E9: Djursholm | G9: mi.ankarcrona@gmail.com
A10: Annerstedt | B10: Mats | C10: Rindögatan 6 | D10: 11536 | E10: Stockhiolm
A11: Armfelt | B11: Elisabeth | C11: Norevägen 59 | D11: 18254 | E11: Djursholm | G11: elisabeth.armfelt@gmail.com
A12: Arvidsson | B12: Mattias | C12: Adilsvägen 1A | D12: 18254 | E12: Djursholm | F12: Familj | G12: mattias.arvidsson@prv.se
A13: Avellan-Hultman | B13: Lars | C13: Österängsv 42A | D13: 18247 | E13: Enebyberg | F13: Familj | G13: lars.avellan@telia.com | H13: Maria
A14: Avellan-Hultman | B14: Maria
A15: Axling | B15: Britt-Marie | C15: Njordvägen 4 | D15: 18255 | E15: Djursholm | F15: Familj | G15: bitteaxling@hotmail.com | H15: Olle | I15: oaxling@gmail.com
A16: Baner | B16: Anne | C16: Vendestigen 1 | D16: 18266 | E16: Djursholm | G16: annebaner@gmail.com
A17: Berggren | B17: Henrik | C17: Skandiavägen 11 | D17: 18263 | E17: Djursholm | G17: heja.berggren@gmail.com
A18: Bergholm | B18: Jöran | C18: Sveavägen 7B | D18: 18260 | E18: Djursholm | G18: j.bergholm@telia.com
A19: Berglund | B19: Bo | C19: Valevägen 6 | D19: 18261 | E19: Djursholm | G19: bo.berglund@ki.se
A20: Bergman | B20: Heide | C20: Germaniav 1 | D20: 18268 | E20: Djursholm | F20: Familj | G20: heide.bergman@gmail.com
A21: Bergsten | B21: Siv-Britt | C21: Lillkalmarv 9 | D21: 18265 | E21: Djursholm | G21: sivbergsten@hotmail.com
A22: Biederman | B22: Klaus | C22: Föreningsv 4 | D22: 18273 | E22: Stocksund | G22: k.b@kth.se
A23: Bierke | B23: Anne | C23: Väringavägen 23 | D23: 18263 | E23: Djursholm
A24: Björkegren | B24: Eva | C24: Kårevägen 24 | D24: 18266 | E24: Djursholm
A25: Björkegren | B25: Camilla | C25: Celsiusgatan 3 | D25: 11230 | E25: Stockholm
A26: Björkman | B26: Marie-Louise | C26: Sveavägen 18B | D26: 18262 | E26: Djursholm | G26: bjorkman.ml@gmail.com
A27: Björnsson | B27: Björn | C27: Auravägen 2 | D27: 18260 | E27: Djursholm | G27: bjorn@bjornssons.se | H27: Gunilla
A28: Björnstierna | B28: Martina | C28: Eketorpsvägen 1 | D28: 18261 | E28: Djursholm | G28: martinabjornstierna@hotmail.com
A29: Blom | B29: Agneta | C29: Norevägen 59 | D29: 18264 | E29: Djursholm | G29: agnetablom19@gmail.com | H29: Lennie
A30: Boberg | B30: jan | C30: Torstenssonsv 7 L | D30: 18266 | E30: Djursholm | G30: boberg_767@hotmail.com | H30: Cattis, Adrian, Bonnie, Ludvig, Philip
A31: Boman | B31: Anna | C31: Holmgårdsv 6 | D31: 18254 | E31: Djursholm | H31: Calle, Erika
A32: Bonrud-Arnesen | B32: Christina | C32: Kårevägen 18 | D32: 18266 | E32: Djursholm | F32: Familj
A33: Bontin-Lundgren | B33: Anne | C33: Fafnerstigen 3 | D33: 18266 | E33: Djursholm | F33: Familj | G33: anne.bontin.lundgren@telia.com | H33: Göran
A34: Bozorgnia | B34: Ebba | C34: Sveavägen 18B | D34: 18260 | E34: Djursholm | F34: Familj
A35: Brandt | B35: Pelle | C35: Mörbydalen 18 | D35: 18232 | E35: Danderyd | F35: Familj | G35: pelle@pellebrandt.se | H35: Carin
A36: Brunner | B36: Solveig | G36: solveigbrunner@outlook.com
A37: Busch | B37: Eva | C37: Grimvägen 3 | D37: 18268 | E37: Djursholm | G37: buscheva@hotmail.com
A38: Ceder | B38: Sylvia | C38: Fafnervägen 19 | D38: 18266 | E38: Djursholm | F38: Familj
A39: Craelius Hultin | B39: Carin | C39: Rosvägen 1 | D39: 18278 | E39: Stocksund | F39: Familj | G39: carin.craelius@gmail.com
A40: Craelius Hultin | B40: familjen
...
